BEGIN:VCALENDAR
VERSION:2.0
PRODID:-//Iglesia Evangélica Luterana San Marcos - ECPv6.15.16//NONSGML v1.0//EN
CALSCALE:GREGORIAN
METHOD:PUBLISH
X-ORIGINAL-URL:https://ielsanmarcos.org
X-WR-CALDESC:Eventos para Iglesia Evangélica Luterana San Marcos
REFRESH-INTERVAL;VALUE=DURATION:PT1H
X-Robots-Tag:noindex
X-PUBLISHED-TTL:PT1H
BEGIN:VTIMEZONE
TZID:Asia/Dubai
BEGIN:STANDARD
TZOFFSETFROM:+0400
TZOFFSETTO:+0400
TZNAME:+04
DTSTART:20240101T000000
END:STANDARD
END:VTIMEZONE
BEGIN:VEVENT
DTSTART;TZID=Asia/Dubai:20251104T090000
DTEND;TZID=Asia/Dubai:20251104T170000
DTSTAMP:20260420T105959
CREATED:20251004T010741Z
LAST-MODIFIED:20251004T010741Z
UID:1505-1762246800-1762275600@ielsanmarcos.org
SUMMARY:Horas de oficina
DESCRIPTION:Horario de oficina administrativaMartes: 9:00 AM – 5:00 PMJueves: 2:00 PM – 5:00 PM \nPara cualquier gestión\, puede comunicarse al teléfono (787) 708-5845.
URL:https://ielsanmarcos.org/evento/horas-de-oficina-40/
CATEGORIES:Horas de Oficina
END:VEVENT
BEGIN:VEVENT
DTSTART;TZID=Asia/Dubai:20251104T100000
DTEND;TZID=Asia/Dubai:20251104T113000
DTSTAMP:20260420T105959
CREATED:20251004T004709Z
LAST-MODIFIED:20251004T004709Z
UID:1419-1762250400-1762255800@ielsanmarcos.org
SUMMARY:Estudio Bíblico y Oración
DESCRIPTION:
URL:https://ielsanmarcos.org/evento/estudio-biblico-y-oracion-23/
END:VEVENT
BEGIN:VEVENT
DTSTART;TZID=Asia/Dubai:20251104T183000
DTEND;TZID=Asia/Dubai:20251104T200000
DTSTAMP:20260420T105959
CREATED:20251004T003928Z
LAST-MODIFIED:20251004T003928Z
UID:1383-1762281000-1762286400@ielsanmarcos.org
SUMMARY:Reunión Grupo AA en San Marcos
DESCRIPTION:
URL:https://ielsanmarcos.org/evento/reunion-grupo-aa-en-san-marcos-35/
END:VEVENT
END:VCALENDAR