BEGIN:VCALENDAR
VERSION:2.0
PRODID:-//Iglesia Evangélica Luterana San Marcos - ECPv6.15.16//NONSGML v1.0//EN
CALSCALE:GREGORIAN
METHOD:PUBLISH
X-WR-CALNAME:Iglesia Evangélica Luterana San Marcos
X-ORIGINAL-URL:https://ielsanmarcos.org
X-WR-CALDESC:Eventos para Iglesia Evangélica Luterana San Marcos
REFRESH-INTERVAL;VALUE=DURATION:PT1H
X-Robots-Tag:noindex
X-PUBLISHED-TTL:PT1H
BEGIN:VTIMEZONE
TZID:Asia/Dubai
BEGIN:STANDARD
TZOFFSETFROM:+0400
TZOFFSETTO:+0400
TZNAME:+04
DTSTART:20240101T000000
END:STANDARD
END:VTIMEZONE
BEGIN:VEVENT
DTSTART;TZID=Asia/Dubai:20251111T090000
DTEND;TZID=Asia/Dubai:20251111T170000
DTSTAMP:20260420T105933
CREATED:20251004T010752Z
LAST-MODIFIED:20251004T010752Z
UID:1506-1762851600-1762880400@ielsanmarcos.org
SUMMARY:Horas de oficina
DESCRIPTION:Horario de oficina administrativaMartes: 9:00 AM – 5:00 PMJueves: 2:00 PM – 5:00 PM \nPara cualquier gestión\, puede comunicarse al teléfono (787) 708-5845.
URL:https://ielsanmarcos.org/evento/horas-de-oficina-41/
CATEGORIES:Horas de Oficina
END:VEVENT
BEGIN:VEVENT
DTSTART;TZID=Asia/Dubai:20251111T100000
DTEND;TZID=Asia/Dubai:20251111T113000
DTSTAMP:20260420T105933
CREATED:20251004T004719Z
LAST-MODIFIED:20251004T004719Z
UID:1420-1762855200-1762860600@ielsanmarcos.org
SUMMARY:Estudio Bíblico y Oración
DESCRIPTION:
URL:https://ielsanmarcos.org/evento/estudio-biblico-y-oracion-24/
END:VEVENT
BEGIN:VEVENT
DTSTART;TZID=Asia/Dubai:20251111T183000
DTEND;TZID=Asia/Dubai:20251111T200000
DTSTAMP:20260420T105933
CREATED:20251004T004004Z
LAST-MODIFIED:20251004T004004Z
UID:1388-1762885800-1762891200@ielsanmarcos.org
SUMMARY:Reunión Grupo AA en San Marcos
DESCRIPTION:
URL:https://ielsanmarcos.org/evento/reunion-grupo-aa-en-san-marcos-36/
END:VEVENT
END:VCALENDAR