BEGIN:VCALENDAR
VERSION:2.0
PRODID:-//Iglesia Evangélica Luterana San Marcos - ECPv6.15.16//NONSGML v1.0//EN
CALSCALE:GREGORIAN
METHOD:PUBLISH
X-ORIGINAL-URL:https://ielsanmarcos.org
X-WR-CALDESC:Eventos para Iglesia Evangélica Luterana San Marcos
REFRESH-INTERVAL;VALUE=DURATION:PT1H
X-Robots-Tag:noindex
X-PUBLISHED-TTL:PT1H
BEGIN:VTIMEZONE
TZID:America/Puerto_Rico
BEGIN:STANDARD
TZOFFSETFROM:-0400
TZOFFSETTO:-0400
TZNAME:AST
DTSTART:20250101T000000
END:STANDARD
END:VTIMEZONE
BEGIN:VEVENT
DTSTART;VALUE=DATE:20260101
DTEND;VALUE=DATE:20260102
DTSTAMP:20260420T075710
CREATED:20251231T122349Z
LAST-MODIFIED:20251231T122349Z
UID:1894-1767225600-1767311999@ielsanmarcos.org
SUMMARY:Año Nuevo
DESCRIPTION:
URL:https://ielsanmarcos.org/evento/ano-nuevo/
END:VEVENT
END:VCALENDAR