BEGIN:VCALENDAR
VERSION:2.0
PRODID:-//Iglesia Evangélica Luterana San Marcos - ECPv6.15.16//NONSGML v1.0//EN
CALSCALE:GREGORIAN
METHOD:PUBLISH
X-WR-CALNAME:Iglesia Evangélica Luterana San Marcos
X-ORIGINAL-URL:https://ielsanmarcos.org
X-WR-CALDESC:Eventos para Iglesia Evangélica Luterana San Marcos
REFRESH-INTERVAL;VALUE=DURATION:PT1H
X-Robots-Tag:noindex
X-PUBLISHED-TTL:PT1H
BEGIN:VTIMEZONE
TZID:Asia/Dubai
BEGIN:STANDARD
TZOFFSETFROM:+0400
TZOFFSETTO:+0400
TZNAME:+04
DTSTART:20250101T000000
END:STANDARD
END:VTIMEZONE
BEGIN:VEVENT
DTSTART;TZID=Asia/Dubai:20260118T100000
DTEND;TZID=Asia/Dubai:20260118T233000
DTSTAMP:20260414T065131
CREATED:20251230T220804Z
LAST-MODIFIED:20251230T220804Z
UID:1829-1768730400-1768779000@ielsanmarcos.org
SUMMARY:Oficio Mayor y Eucaristía - 2º Domingo después de Epifanía
DESCRIPTION:Primera Lectura: Isaías 49:1-7 \nSalmo 40:1-11 \nSegunda Lectura: 1º Corintios 1:1-9 \nEvangelio: San Juan 1:29-42 \nCelebrante: Pr. Gabriel Ñanco \nLiturgista: Ivonne Gutiérrez \nLector: Marcos Pou \nAnfitriones/Ujieres: Beni\, Ángel y Gabriel Rivera \nProyección: Belenni González \nTransmisión: Génesis Hernández \nContadores: Mildred y Nora \nMinisterio del altar: Mayra L. Vázquez \n 
URL:https://ielsanmarcos.org/evento/segundo_despues_de_epifania/
END:VEVENT
END:VCALENDAR