BEGIN:VCALENDAR
VERSION:2.0
PRODID:-//Iglesia Evangélica Luterana San Marcos - ECPv6.15.16//NONSGML v1.0//EN
CALSCALE:GREGORIAN
METHOD:PUBLISH
X-ORIGINAL-URL:https://ielsanmarcos.org
X-WR-CALDESC:Eventos para Iglesia Evangélica Luterana San Marcos
REFRESH-INTERVAL;VALUE=DURATION:PT1H
X-Robots-Tag:noindex
X-PUBLISHED-TTL:PT1H
BEGIN:VTIMEZONE
TZID:Asia/Dubai
BEGIN:STANDARD
TZOFFSETFROM:+0400
TZOFFSETTO:+0400
TZNAME:+04
DTSTART:20250101T000000
END:STANDARD
END:VTIMEZONE
BEGIN:VEVENT
DTSTART;TZID=Asia/Dubai:20260222T100000
DTEND;TZID=Asia/Dubai:20260222T233000
DTSTAMP:20260420T061802
CREATED:20260124T064259Z
LAST-MODIFIED:20260124T064259Z
UID:2167-1771754400-1771803000@ielsanmarcos.org
SUMMARY:Oficio Mayor y Eucaristía - Primer Domingo en Cuaresma
DESCRIPTION:Primera Lectura: Génesis 2:15-17; 3:1-7 \nSalmo 32 \nSegunda Lectura: Romanos 5:12-19 \nEvangelio: San Mateo 4:1-11 \nLiturgista: Nora M. Pacheco \nLectora: Lory Garcia \nAnfitriones/Ujieres: Idalia y Rafy Pérez \nProyección: Amaury Oyola \nTransmisión: Jeannette Sierra \nContadoras: Luli y Yazmín \nAltar: Amagie Garcia \nBrazos Extendidos: Carmen Díaz y Ceci Rivera
URL:https://ielsanmarcos.org/evento/oficio-mayor-y-eucaristia-1er-domingo-en-cuaresma/
END:VEVENT
END:VCALENDAR