BEGIN:VCALENDAR
VERSION:2.0
PRODID:-//Iglesia Evangélica Luterana San Marcos - ECPv6.15.16//NONSGML v1.0//EN
CALSCALE:GREGORIAN
METHOD:PUBLISH
X-WR-CALNAME:Iglesia Evangélica Luterana San Marcos
X-ORIGINAL-URL:https://ielsanmarcos.org
X-WR-CALDESC:Eventos para Iglesia Evangélica Luterana San Marcos
REFRESH-INTERVAL;VALUE=DURATION:PT1H
X-Robots-Tag:noindex
X-PUBLISHED-TTL:PT1H
BEGIN:VTIMEZONE
TZID:Asia/Dubai
BEGIN:STANDARD
TZOFFSETFROM:+0400
TZOFFSETTO:+0400
TZNAME:+04
DTSTART:20250101T000000
END:STANDARD
END:VTIMEZONE
BEGIN:VTIMEZONE
TZID:America/Puerto_Rico
BEGIN:STANDARD
TZOFFSETFROM:-0400
TZOFFSETTO:-0400
TZNAME:AST
DTSTART:20250101T000000
END:STANDARD
END:VTIMEZONE
BEGIN:VEVENT
DTSTART;TZID=Asia/Dubai:20260224T090000
DTEND;TZID=Asia/Dubai:20260224T170000
DTSTAMP:20260420T062127
CREATED:20260124T061202Z
LAST-MODIFIED:20260124T061202Z
UID:2159-1771923600-1771952400@ielsanmarcos.org
SUMMARY:Horas de oficina
DESCRIPTION:Horario de oficina administrativaMartes: 9:00 AM – 5:00 PMJueves: 2:00 PM – 5:00 PM \nPara cualquier gestión\, puede comunicarse al teléfono (787) 708-5845.
URL:https://ielsanmarcos.org/evento/horas-de-oficina-57/
CATEGORIES:Horas de Oficina
END:VEVENT
BEGIN:VEVENT
DTSTART;TZID=Asia/Dubai:20260224T183000
DTEND;TZID=Asia/Dubai:20260224T200000
DTSTAMP:20260420T062127
CREATED:20260124T060539Z
LAST-MODIFIED:20260124T060539Z
UID:2134-1771957800-1771963200@ielsanmarcos.org
SUMMARY:Reunión Grupo AA en San Marcos
DESCRIPTION:
URL:https://ielsanmarcos.org/evento/reunion-grupo-aa-en-san-marcos-68/
END:VEVENT
BEGIN:VEVENT
DTSTART;TZID=America/Puerto_Rico:20260224T190000
DTEND;TZID=America/Puerto_Rico:20260224T203000
DTSTAMP:20260420T062127
CREATED:20260124T061503Z
LAST-MODIFIED:20260124T061503Z
UID:2155-1771959600-1771965000@ielsanmarcos.org
SUMMARY:La fe en diálogo con la vida (Zoom)
DESCRIPTION:Encuentro semanal de reflexión teológica por Zoom. \nMartes\, de 7:00 PM a 8:30 PM \nhttps://us02web.zoom.us/j/87065114992 \nPara comunicarse por teléfono:\n(939) 945-0244\n(787) 945-1488 \nID de reunión: 870 6511 4992
URL:https://ielsanmarcos.org/evento/la-fe-en-dialogo-con-la-vida-zoom-7/
END:VEVENT
END:VCALENDAR