BEGIN:VCALENDAR
VERSION:2.0
PRODID:-//Iglesia Evangélica Luterana San Marcos - ECPv6.15.16//NONSGML v1.0//EN
CALSCALE:GREGORIAN
METHOD:PUBLISH
X-ORIGINAL-URL:https://ielsanmarcos.org
X-WR-CALDESC:Eventos para Iglesia Evangélica Luterana San Marcos
REFRESH-INTERVAL;VALUE=DURATION:PT1H
X-Robots-Tag:noindex
X-PUBLISHED-TTL:PT1H
BEGIN:VTIMEZONE
TZID:Asia/Dubai
BEGIN:STANDARD
TZOFFSETFROM:+0400
TZOFFSETTO:+0400
TZNAME:+04
DTSTART:20250101T000000
END:STANDARD
END:VTIMEZONE
BEGIN:VEVENT
DTSTART;TZID=Asia/Dubai:20260301T100000
DTEND;TZID=Asia/Dubai:20260301T233000
DTSTAMP:20260420T045539
CREATED:20260223T054837Z
LAST-MODIFIED:20260223T054837Z
UID:2347-1772359200-1772407800@ielsanmarcos.org
SUMMARY:Oficio Mayor y Eucaristía - Segundo Domingo en Cuaresma
DESCRIPTION:Primera Lectura: Génesis 12:1-4a \nSalmo 121 \nSegunda Lectura: Romanos 4:1-5\, 13-17 \nEvangelio: San Juan 3:1-17 \nLiturgista: Ivonne Gutiérrez \nLectora: Mayra Vázquez \nAnfitriones/Ujieres: Zahíra y Xavier Ramírez \nProyección: Belenni González \nTransmisión: Jeannette Sierra \nContadoras: Marianyili y Zahíra \nAltar: Ivonne Gutiérrez
URL:https://ielsanmarcos.org/evento/oficio-mayor-y-eucaristia-segundo-domingo-en-cuaresma/
END:VEVENT
END:VCALENDAR