BEGIN:VCALENDAR
VERSION:2.0
PRODID:-//Iglesia Evangélica Luterana San Marcos - ECPv6.15.16//NONSGML v1.0//EN
CALSCALE:GREGORIAN
METHOD:PUBLISH
X-ORIGINAL-URL:https://ielsanmarcos.org
X-WR-CALDESC:Eventos para Iglesia Evangélica Luterana San Marcos
REFRESH-INTERVAL;VALUE=DURATION:PT1H
X-Robots-Tag:noindex
X-PUBLISHED-TTL:PT1H
BEGIN:VTIMEZONE
TZID:Asia/Dubai
BEGIN:STANDARD
TZOFFSETFROM:+0400
TZOFFSETTO:+0400
TZNAME:+04
DTSTART:20250101T000000
END:STANDARD
END:VTIMEZONE
BEGIN:VEVENT
DTSTART;TZID=Asia/Dubai:20260308T100000
DTEND;TZID=Asia/Dubai:20260308T233000
DTSTAMP:20260420T045539
CREATED:20260223T054940Z
LAST-MODIFIED:20260223T054940Z
UID:2346-1772964000-1773012600@ielsanmarcos.org
SUMMARY:Oficio Mayor y Eucaristía - Tercer Domingo en Cuaresma
DESCRIPTION:Primera Lectura: Éxodo 17:1-7 \nSalmo 95 \nSegunda Lectura: Romanos 5:1-11 \nEvangelio: San Juan 4:5-42 \nLiturgista: Gilberto Ortiz   \nLector: Marcos Pou \nAnfitriones/Ujieres: Yazmٕín y Ricardo Rodríguez \nProyección: Idalia Negrón \nTransmisión: Marlyn Díaz \nContadoras: Luli e Idalia \nAltar: Ivonne Gutiérrez \n 
URL:https://ielsanmarcos.org/evento/oficio-mayor-y-eucaristia-tercer-domingo-en-cuaresma/
END:VEVENT
END:VCALENDAR