BEGIN:VCALENDAR
VERSION:2.0
PRODID:-//Iglesia Evangélica Luterana San Marcos - ECPv6.15.16//NONSGML v1.0//EN
CALSCALE:GREGORIAN
METHOD:PUBLISH
X-ORIGINAL-URL:https://ielsanmarcos.org
X-WR-CALDESC:Eventos para Iglesia Evangélica Luterana San Marcos
REFRESH-INTERVAL;VALUE=DURATION:PT1H
X-Robots-Tag:noindex
X-PUBLISHED-TTL:PT1H
BEGIN:VTIMEZONE
TZID:Asia/Dubai
BEGIN:STANDARD
TZOFFSETFROM:+0400
TZOFFSETTO:+0400
TZNAME:+04
DTSTART:20250101T000000
END:STANDARD
END:VTIMEZONE
BEGIN:VEVENT
DTSTART;TZID=Asia/Dubai:20260315T100000
DTEND;TZID=Asia/Dubai:20260315T233000
DTSTAMP:20260420T045631
CREATED:20260223T055035Z
LAST-MODIFIED:20260223T055035Z
UID:2345-1773568800-1773617400@ielsanmarcos.org
SUMMARY:Oficio Mayor y Eucaristía - Cuarto Domingo en Cuaresma
DESCRIPTION:Primera Lectura: 1 Samuel 16:1-13 \nSalmo 23 \nSegunda Lectura: Efesios 5:8-14 \nEvangelio: San Juan 9:1-41 \nLiturgista: Imagda Cruz \nLectora: Ceci Rivera    \nAnfitriones/Ujieres: Mildred Pérez y Jonathan Ramos \nProyección: Zahíra Rodríguez \nTransmisión: Génesis Hernández \nContadoras: Amagie y Youmara \nAltar: Ivonne Gutiérrez
URL:https://ielsanmarcos.org/evento/oficio-mayor-y-eucaristia-cuarto-domingo-en-cuaresma/
END:VEVENT
END:VCALENDAR