BEGIN:VCALENDAR
VERSION:2.0
PRODID:-//Iglesia Evangélica Luterana San Marcos - ECPv6.15.16//NONSGML v1.0//EN
CALSCALE:GREGORIAN
METHOD:PUBLISH
X-WR-CALNAME:Iglesia Evangélica Luterana San Marcos
X-ORIGINAL-URL:https://ielsanmarcos.org
X-WR-CALDESC:Eventos para Iglesia Evangélica Luterana San Marcos
REFRESH-INTERVAL;VALUE=DURATION:PT1H
X-Robots-Tag:noindex
X-PUBLISHED-TTL:PT1H
BEGIN:VTIMEZONE
TZID:Asia/Dubai
BEGIN:STANDARD
TZOFFSETFROM:+0400
TZOFFSETTO:+0400
TZNAME:+04
DTSTART:20250101T000000
END:STANDARD
END:VTIMEZONE
BEGIN:VTIMEZONE
TZID:America/Puerto_Rico
BEGIN:STANDARD
TZOFFSETFROM:-0400
TZOFFSETTO:-0400
TZNAME:AST
DTSTART:20250101T000000
END:STANDARD
END:VTIMEZONE
BEGIN:VEVENT
DTSTART;TZID=Asia/Dubai:20260318T100000
DTEND;TZID=Asia/Dubai:20260318T113000
DTSTAMP:20260420T045308
CREATED:20260223T060449Z
LAST-MODIFIED:20260223T060449Z
UID:2408-1773828000-1773833400@ielsanmarcos.org
SUMMARY:Estudio Bíblico y Oración
DESCRIPTION:
URL:https://ielsanmarcos.org/evento/estudio-biblico-y-oracion-41/
END:VEVENT
BEGIN:VEVENT
DTSTART;TZID=America/Puerto_Rico:20260318T163000
DTEND;TZID=America/Puerto_Rico:20260318T183000
DTSTAMP:20260420T045308
CREATED:20260223T060155Z
LAST-MODIFIED:20260223T060155Z
UID:2363-1773851400-1773858600@ielsanmarcos.org
SUMMARY:Ensayo Ministerio Música y Adoración San Marcos
DESCRIPTION:
URL:https://ielsanmarcos.org/evento/ensayo-ministerio-musica-y-adoracion-san-marcos-10/
END:VEVENT
END:VCALENDAR