BEGIN:VCALENDAR
VERSION:2.0
PRODID:-//Iglesia Evangélica Luterana San Marcos - ECPv6.15.16//NONSGML v1.0//EN
CALSCALE:GREGORIAN
METHOD:PUBLISH
X-ORIGINAL-URL:https://ielsanmarcos.org
X-WR-CALDESC:Eventos para Iglesia Evangélica Luterana San Marcos
REFRESH-INTERVAL;VALUE=DURATION:PT1H
X-Robots-Tag:noindex
X-PUBLISHED-TTL:PT1H
BEGIN:VTIMEZONE
TZID:Asia/Dubai
BEGIN:STANDARD
TZOFFSETFROM:+0400
TZOFFSETTO:+0400
TZNAME:+04
DTSTART:20250101T000000
END:STANDARD
END:VTIMEZONE
BEGIN:VEVENT
DTSTART;TZID=Asia/Dubai:20260322T100000
DTEND;TZID=Asia/Dubai:20260322T233000
DTSTAMP:20260420T045537
CREATED:20260223T055132Z
LAST-MODIFIED:20260223T055132Z
UID:2344-1774173600-1774222200@ielsanmarcos.org
SUMMARY:Oficio Mayor y Eucaristía - Quinto Domingo en Cuaresma
DESCRIPTION:Primera Lectura: Ezequiel 37:1-14 \nSalmo 130 \nSegunda Lectura: Romanos 8:6-11 \nEvangelio: San Juan 11:1-45 \nLiturgista: Francis Ramos \nLectora: Imagda Cruz \nAnfitriones/Ujieres: Wilma y Eric Mercado \nProyección: Amaury Oyola \nTransmisión: Marlyn Díaz \nContadoras: Marlyn y Nora \nAltar: Ivonne Gutiérrez
URL:https://ielsanmarcos.org/evento/oficio-mayor-y-eucaristia-quinto-domingo-en-cuaresma/
END:VEVENT
END:VCALENDAR