BEGIN:VCALENDAR
VERSION:2.0
PRODID:-//Iglesia Evangélica Luterana San Marcos - ECPv6.15.16//NONSGML v1.0//EN
CALSCALE:GREGORIAN
METHOD:PUBLISH
X-ORIGINAL-URL:https://ielsanmarcos.org
X-WR-CALDESC:Eventos para Iglesia Evangélica Luterana San Marcos
REFRESH-INTERVAL;VALUE=DURATION:PT1H
X-Robots-Tag:noindex
X-PUBLISHED-TTL:PT1H
BEGIN:VTIMEZONE
TZID:Asia/Dubai
BEGIN:STANDARD
TZOFFSETFROM:+0400
TZOFFSETTO:+0400
TZNAME:+04
DTSTART:20250101T000000
END:STANDARD
END:VTIMEZONE
BEGIN:VEVENT
DTSTART;TZID=Asia/Dubai:20260329T100000
DTEND;TZID=Asia/Dubai:20260329T233000
DTSTAMP:20260420T000411
CREATED:20260223T055301Z
LAST-MODIFIED:20260223T055301Z
UID:2352-1774778400-1774827000@ielsanmarcos.org
SUMMARY:Oficio Mayor y Eucaristía - Domingo de Ramos
DESCRIPTION:Primera Lectura: Isaías 50:4-9a \nSalmo 31:9-16 \nSegunda Lectura: Filipenses 2:5-11 \nEvangelio: San Mateo 27:11-54 \nLiturgista: Belenni González \nLectora: Marlyn Díaz \nAnfitriones/Ujieres: Youmara González y Aracelis Cosme \nProyección: Idalia Negrón \nTransmisión: Génesis Hernández \nContadoras: Mildred P. y Mayra \nAltar: Ivonne Gutiérrez \nBrazos Extendidos: Ivonne Gutiérrez y Nora Pacheco
URL:https://ielsanmarcos.org/evento/oficio-mayor-y-eucaristia-domingo-de-ramos/
END:VEVENT
END:VCALENDAR