BEGIN:VCALENDAR
VERSION:2.0
PRODID:-//Iglesia Evangélica Luterana San Marcos - ECPv6.15.16//NONSGML v1.0//EN
CALSCALE:GREGORIAN
METHOD:PUBLISH
X-ORIGINAL-URL:https://ielsanmarcos.org
X-WR-CALDESC:Eventos para Iglesia Evangélica Luterana San Marcos
REFRESH-INTERVAL;VALUE=DURATION:PT1H
X-Robots-Tag:noindex
X-PUBLISHED-TTL:PT1H
BEGIN:VTIMEZONE
TZID:Asia/Dubai
BEGIN:STANDARD
TZOFFSETFROM:+0400
TZOFFSETTO:+0400
TZNAME:+04
DTSTART:20250101T000000
END:STANDARD
END:VTIMEZONE
BEGIN:VEVENT
DTSTART;TZID=Asia/Dubai:20260405T100000
DTEND;TZID=Asia/Dubai:20260405T233000
DTSTAMP:20260419T235926
CREATED:20260402T151331Z
LAST-MODIFIED:20260402T151331Z
UID:2501-1775383200-1775431800@ielsanmarcos.org
SUMMARY:Oficio Mayor y Eucaristía - Domingo de Pascua
DESCRIPTION:Primera Lectura: Hechos 10:34-43 \nSalmo 118:1-2\, 14-24 \nSegunda Lectura: Colosenses 3:1-4 \nEvangelio: San Mateo 28:1-10 \nLiturgista: Ivonne Gutiérrez \nLectora: Marlyn Díaz \nAnfitriones/Ujieres: Zahíra y Xavier Ramírez \nProyección: Amaury Oyola \nTransmisión: Jeannette Sierra \nAltar: Ivonne Gutierrez \n 
URL:https://ielsanmarcos.org/evento/oficio-mayor-y-eucaristia-domingo-de-pascua/
END:VEVENT
END:VCALENDAR