BEGIN:VCALENDAR
VERSION:2.0
PRODID:-//Iglesia Evangélica Luterana San Marcos - ECPv6.15.16//NONSGML v1.0//EN
CALSCALE:GREGORIAN
METHOD:PUBLISH
X-ORIGINAL-URL:https://ielsanmarcos.org
X-WR-CALDESC:Eventos para Iglesia Evangélica Luterana San Marcos
REFRESH-INTERVAL;VALUE=DURATION:PT1H
X-Robots-Tag:noindex
X-PUBLISHED-TTL:PT1H
BEGIN:VTIMEZONE
TZID:Asia/Dubai
BEGIN:STANDARD
TZOFFSETFROM:+0400
TZOFFSETTO:+0400
TZNAME:+04
DTSTART:20250101T000000
END:STANDARD
END:VTIMEZONE
BEGIN:VEVENT
DTSTART;TZID=Asia/Dubai:20260412T100000
DTEND;TZID=Asia/Dubai:20260412T233000
DTSTAMP:20260420T000027
CREATED:20260402T151447Z
LAST-MODIFIED:20260402T151447Z
UID:2502-1775988000-1776036600@ielsanmarcos.org
SUMMARY:Oficio Mayor y Eucaristía - Segundo Domingo de Pascua
DESCRIPTION:Primera Lectura: Hechos 2: 14ª\, 22-32 \nSalmo 16 \nSegunda Lectura: 1 Pedro 1: 3-9 \nEvangelio: San Juan 20:19-31 \nLiturgista: Belenni González \nLector: Gilberto Ortiz \nAnfitriones/Ujieres: Wilma y Eric Mercado \nProyección: Zahíra Rodríguez \nTransmisión: Marlyn Díaz \nAltar: Ivonne Gutierrez
URL:https://ielsanmarcos.org/evento/oficio-mayor-y-eucaristia-segundo-domingo-de-pascua/
END:VEVENT
END:VCALENDAR