BEGIN:VCALENDAR
VERSION:2.0
PRODID:-//Iglesia Evangélica Luterana San Marcos - ECPv6.15.16//NONSGML v1.0//EN
CALSCALE:GREGORIAN
METHOD:PUBLISH
X-WR-CALNAME:Iglesia Evangélica Luterana San Marcos
X-ORIGINAL-URL:https://ielsanmarcos.org
X-WR-CALDESC:Eventos para Iglesia Evangélica Luterana San Marcos
REFRESH-INTERVAL;VALUE=DURATION:PT1H
X-Robots-Tag:noindex
X-PUBLISHED-TTL:PT1H
BEGIN:VTIMEZONE
TZID:Asia/Dubai
BEGIN:STANDARD
TZOFFSETFROM:+0400
TZOFFSETTO:+0400
TZNAME:+04
DTSTART:20250101T000000
END:STANDARD
END:VTIMEZONE
BEGIN:VEVENT
DTSTART;TZID=Asia/Dubai:20260419T100000
DTEND;TZID=Asia/Dubai:20260419T233000
DTSTAMP:20260419T235745
CREATED:20260402T151545Z
LAST-MODIFIED:20260402T151545Z
UID:2500-1776592800-1776641400@ielsanmarcos.org
SUMMARY:Oficio Mayor y Eucaristía - Tercer Domingo de Pascua
DESCRIPTION:Primera Lectura: Hechos 2: 14ª\, 36-41 \nSalmo 116:1-4\, 12-19 \nSegunda Lectura: 1 Pedro 1:17-23 \nEvangelio: San Lucas 24:13-35 \nLiturgista: Imagda Cruz \nLectora: Mayra Vázquez \nAnfitriones/Ujieres: Albis y José García \nProyección: Idalia Negrón \nTransmisión: Génesis Hernández \nAltar: Ivonne Gutierrez
URL:https://ielsanmarcos.org/evento/oficio-mayor-y-eucaristia-tercer-domingo-de-pascua/
END:VEVENT
END:VCALENDAR