BEGIN:VCALENDAR
VERSION:2.0
PRODID:-//Iglesia Evangélica Luterana San Marcos - ECPv6.15.16//NONSGML v1.0//EN
CALSCALE:GREGORIAN
METHOD:PUBLISH
X-ORIGINAL-URL:https://ielsanmarcos.org
X-WR-CALDESC:Eventos para Iglesia Evangélica Luterana San Marcos
REFRESH-INTERVAL;VALUE=DURATION:PT1H
X-Robots-Tag:noindex
X-PUBLISHED-TTL:PT1H
BEGIN:VTIMEZONE
TZID:Asia/Dubai
BEGIN:STANDARD
TZOFFSETFROM:+0400
TZOFFSETTO:+0400
TZNAME:+04
DTSTART:20250101T000000
END:STANDARD
END:VTIMEZONE
BEGIN:VTIMEZONE
TZID:America/Puerto_Rico
BEGIN:STANDARD
TZOFFSETFROM:-0400
TZOFFSETTO:-0400
TZNAME:AST
DTSTART:20250101T000000
END:STANDARD
END:VTIMEZONE
BEGIN:VEVENT
DTSTART;TZID=Asia/Dubai:20260422T100000
DTEND;TZID=Asia/Dubai:20260422T113000
DTSTAMP:20260419T235926
CREATED:20260402T152708Z
LAST-MODIFIED:20260402T152708Z
UID:2522-1776852000-1776857400@ielsanmarcos.org
SUMMARY:Estudio Bíblico y Oración
DESCRIPTION:
URL:https://ielsanmarcos.org/evento/estudio-biblico-y-oracion-46/
END:VEVENT
BEGIN:VEVENT
DTSTART;TZID=America/Puerto_Rico:20260422T163000
DTEND;TZID=America/Puerto_Rico:20260422T183000
DTSTAMP:20260419T235926
CREATED:20260402T152634Z
LAST-MODIFIED:20260402T152634Z
UID:2519-1776875400-1776882600@ielsanmarcos.org
SUMMARY:Ensayo Ministerio Música y Adoración San Marcos
DESCRIPTION:
URL:https://ielsanmarcos.org/evento/ensayo-ministerio-musica-y-adoracion-san-marcos-14/
END:VEVENT
END:VCALENDAR