BEGIN:VCALENDAR
VERSION:2.0
PRODID:-//Iglesia Evangélica Luterana San Marcos - ECPv6.15.20//NONSGML v1.0//EN
CALSCALE:GREGORIAN
METHOD:PUBLISH
X-WR-CALNAME:Iglesia Evangélica Luterana San Marcos
X-ORIGINAL-URL:https://ielsanmarcos.org
X-WR-CALDESC:Eventos para Iglesia Evangélica Luterana San Marcos
REFRESH-INTERVAL;VALUE=DURATION:PT1H
X-Robots-Tag:noindex
X-PUBLISHED-TTL:PT1H
BEGIN:VTIMEZONE
TZID:Asia/Dubai
BEGIN:STANDARD
TZOFFSETFROM:+0400
TZOFFSETTO:+0400
TZNAME:+04
DTSTART:20240101T000000
END:STANDARD
END:VTIMEZONE
BEGIN:VEVENT
DTSTART;TZID=Asia/Dubai:20250603T100000
DTEND;TZID=Asia/Dubai:20250603T110000
DTSTAMP:20260423T165022
CREATED:20250531T221720Z
LAST-MODIFIED:20250601T030157Z
UID:457-1748944800-1748948400@ielsanmarcos.org
SUMMARY:Estudio Bíblico y Oración
DESCRIPTION:Encuentro semanal de estudio bíblico y oración.
URL:https://ielsanmarcos.org/evento/estudio-biblico-y-oracion/
CATEGORIES:Estudio Bíblico y Oración
END:VEVENT
BEGIN:VEVENT
DTSTART;TZID=Asia/Dubai:20250610T100000
DTEND;TZID=Asia/Dubai:20250610T110000
DTSTAMP:20260423T165022
CREATED:20250531T221720Z
LAST-MODIFIED:20250601T030157Z
UID:458-1749549600-1749553200@ielsanmarcos.org
SUMMARY:Estudio Bíblico y Oración
DESCRIPTION:Encuentro semanal de estudio bíblico y oración.
URL:https://ielsanmarcos.org/evento/estudio-biblico-y-oracion-2/
CATEGORIES:Estudio Bíblico y Oración
END:VEVENT
BEGIN:VEVENT
DTSTART;TZID=Asia/Dubai:20250617T100000
DTEND;TZID=Asia/Dubai:20250617T110000
DTSTAMP:20260423T165022
CREATED:20250531T221720Z
LAST-MODIFIED:20250601T030212Z
UID:459-1750154400-1750158000@ielsanmarcos.org
SUMMARY:Estudio Bíblico y Oración
DESCRIPTION:Encuentro semanal de estudio bíblico y oración.
URL:https://ielsanmarcos.org/evento/estudio-biblico-y-oracion-3/
CATEGORIES:Estudio Bíblico y Oración
END:VEVENT
BEGIN:VEVENT
DTSTART;TZID=Asia/Dubai:20250624T100000
DTEND;TZID=Asia/Dubai:20250624T110000
DTSTAMP:20260423T165022
CREATED:20250601T030212Z
LAST-MODIFIED:20250601T030212Z
UID:494-1750759200-1750762800@ielsanmarcos.org
SUMMARY:Estudio Bíblico y Oración
DESCRIPTION:Encuentro semanal de estudio bíblico y oración.
URL:https://ielsanmarcos.org/evento/estudio-biblico-y-oracion-4/
CATEGORIES:Estudio Bíblico y Oración
END:VEVENT
END:VCALENDAR