BEGIN:VCALENDAR
VERSION:2.0
PRODID:-//Iglesia Evangélica Luterana San Marcos - ECPv6.15.20//NONSGML v1.0//EN
CALSCALE:GREGORIAN
METHOD:PUBLISH
X-ORIGINAL-URL:https://ielsanmarcos.org
X-WR-CALDESC:Eventos para Iglesia Evangélica Luterana San Marcos
REFRESH-INTERVAL;VALUE=DURATION:PT1H
X-Robots-Tag:noindex
X-PUBLISHED-TTL:PT1H
BEGIN:VTIMEZONE
TZID:Asia/Dubai
BEGIN:STANDARD
TZOFFSETFROM:+0400
TZOFFSETTO:+0400
TZNAME:+04
DTSTART:20240101T000000
END:STANDARD
END:VTIMEZONE
BEGIN:VEVENT
DTSTART;TZID=Asia/Dubai:20250607T100000
DTEND;TZID=Asia/Dubai:20250607T120000
DTSTAMP:20260423T173158
CREATED:20250531T221720Z
LAST-MODIFIED:20250601T030250Z
UID:456-1749290400-1749297600@ielsanmarcos.org
SUMMARY:Presentación del libro con Eliana Valzura
DESCRIPTION:Presentación del libro «Un Dios Más Digno De Confianza»\, con la visita de su autora Eliana Valzura.
URL:https://ielsanmarcos.org/evento/presentacion-del-libro-con-eliana-valzura/
CATEGORIES:Eventos especiales
END:VEVENT
END:VCALENDAR