BEGIN:VCALENDAR
VERSION:2.0
PRODID:-//Iglesia Evangélica Luterana San Marcos - ECPv6.15.20//NONSGML v1.0//EN
CALSCALE:GREGORIAN
METHOD:PUBLISH
X-ORIGINAL-URL:https://ielsanmarcos.org
X-WR-CALDESC:Eventos para Iglesia Evangélica Luterana San Marcos
REFRESH-INTERVAL;VALUE=DURATION:PT1H
X-Robots-Tag:noindex
X-PUBLISHED-TTL:PT1H
BEGIN:VTIMEZONE
TZID:Asia/Dubai
BEGIN:STANDARD
TZOFFSETFROM:+0400
TZOFFSETTO:+0400
TZNAME:+04
DTSTART:20240101T000000
END:STANDARD
END:VTIMEZONE
BEGIN:VEVENT
DTSTART;TZID=Asia/Dubai:20250626T140000
DTEND;TZID=Asia/Dubai:20250626T170000
DTSTAMP:20260422T223016
CREATED:20250601T030157Z
LAST-MODIFIED:20250601T030157Z
UID:490-1750946400-1750957200@ielsanmarcos.org
SUMMARY:Horas de Oficina Pastoral
DESCRIPTION:Atención pastoral y administrativa en horario regular.
URL:https://ielsanmarcos.org/evento/horas-de-oficina-pastoral-8/
CATEGORIES:Horas de Oficina
END:VEVENT
END:VCALENDAR