BEGIN:VCALENDAR
VERSION:2.0
PRODID:-//Iglesia Evangélica Luterana San Marcos - ECPv6.15.20//NONSGML v1.0//EN
CALSCALE:GREGORIAN
METHOD:PUBLISH
X-ORIGINAL-URL:https://ielsanmarcos.org
X-WR-CALDESC:Eventos para Iglesia Evangélica Luterana San Marcos
REFRESH-INTERVAL;VALUE=DURATION:PT1H
X-Robots-Tag:noindex
X-PUBLISHED-TTL:PT1H
BEGIN:VTIMEZONE
TZID:Asia/Dubai
BEGIN:STANDARD
TZOFFSETFROM:+0400
TZOFFSETTO:+0400
TZNAME:+04
DTSTART:20240101T000000
END:STANDARD
END:VTIMEZONE
BEGIN:VEVENT
DTSTART;TZID=Asia/Dubai:20250904T140000
DTEND;TZID=Asia/Dubai:20250904T170000
DTSTAMP:20260422T182316
CREATED:20250902T072147Z
LAST-MODIFIED:20250902T072147Z
UID:1259-1756994400-1757005200@ielsanmarcos.org
SUMMARY:Horas de oficina
DESCRIPTION:2:00 PM a 5:00 PM \nTel. (787) 708-5845
URL:https://ielsanmarcos.org/evento/horas-de-oficina-20/
CATEGORIES:Horas de Oficina
END:VEVENT
END:VCALENDAR