BEGIN:VCALENDAR
VERSION:2.0
PRODID:-//Iglesia Evangélica Luterana San Marcos - ECPv6.15.20//NONSGML v1.0//EN
CALSCALE:GREGORIAN
METHOD:PUBLISH
X-ORIGINAL-URL:https://ielsanmarcos.org
X-WR-CALDESC:Eventos para Iglesia Evangélica Luterana San Marcos
REFRESH-INTERVAL;VALUE=DURATION:PT1H
X-Robots-Tag:noindex
X-PUBLISHED-TTL:PT1H
BEGIN:VTIMEZONE
TZID:Asia/Dubai
BEGIN:STANDARD
TZOFFSETFROM:+0400
TZOFFSETTO:+0400
TZNAME:+04
DTSTART:20240101T000000
END:STANDARD
END:VTIMEZONE
BEGIN:VEVENT
DTSTART;TZID=Asia/Dubai:20250719T090000
DTEND;TZID=Asia/Dubai:20250719T110000
DTSTAMP:20260423T175100
CREATED:20250701T073740Z
LAST-MODIFIED:20250701T073740Z
UID:799-1752915600-1752922800@ielsanmarcos.org
SUMMARY:Reunión del Consejo de la Congregación S.M.
DESCRIPTION:
URL:https://ielsanmarcos.org/evento/reunion-del-consejo-de-la-congregacion-s-m/
CATEGORIES:Iglesia Evangélica Luterana San Marcos
END:VEVENT
BEGIN:VEVENT
DTSTART;TZID=Asia/Dubai:20250719T183000
DTEND;TZID=Asia/Dubai:20250719T200000
DTSTAMP:20260423T175100
CREATED:20250701T072434Z
LAST-MODIFIED:20250701T073740Z
UID:768-1752949800-1752955200@ielsanmarcos.org
SUMMARY:Reunión Grupo AA en San Marcos
DESCRIPTION:
URL:https://ielsanmarcos.org/evento/reunion-grupo-aa-en-san-marcos-16/
CATEGORIES:Iglesia Evangélica Luterana San Marcos
END:VEVENT
END:VCALENDAR