BEGIN:VCALENDAR
VERSION:2.0
PRODID:-//Iglesia Evangélica Luterana San Marcos - ECPv6.15.20//NONSGML v1.0//EN
CALSCALE:GREGORIAN
METHOD:PUBLISH
X-ORIGINAL-URL:https://ielsanmarcos.org
X-WR-CALDESC:Eventos para Iglesia Evangélica Luterana San Marcos
REFRESH-INTERVAL;VALUE=DURATION:PT1H
X-Robots-Tag:noindex
X-PUBLISHED-TTL:PT1H
BEGIN:VTIMEZONE
TZID:Asia/Dubai
BEGIN:STANDARD
TZOFFSETFROM:+0400
TZOFFSETTO:+0400
TZNAME:+04
DTSTART:20240101T000000
END:STANDARD
END:VTIMEZONE
BEGIN:VEVENT
DTSTART;TZID=Asia/Dubai:20250722T090000
DTEND;TZID=Asia/Dubai:20250722T170000
DTSTAMP:20260423T175100
CREATED:20250701T073755Z
LAST-MODIFIED:20250701T073755Z
UID:800-1753174800-1753203600@ielsanmarcos.org
SUMMARY:Horas de Oficina
DESCRIPTION:
URL:https://ielsanmarcos.org/evento/horas-de-oficina-7/
CATEGORIES:Iglesia Evangélica Luterana San Marcos
END:VEVENT
BEGIN:VEVENT
DTSTART;TZID=Asia/Dubai:20250722T100000
DTEND;TZID=Asia/Dubai:20250722T110000
DTSTAMP:20260423T175100
CREATED:20250701T070424Z
LAST-MODIFIED:20250701T073755Z
UID:726-1753178400-1753182000@ielsanmarcos.org
SUMMARY:Estudio Bíblico y Oración
DESCRIPTION:
URL:https://ielsanmarcos.org/evento/estudio-biblico-y-oracion-8/
CATEGORIES:Iglesia Evangélica Luterana San Marcos
END:VEVENT
BEGIN:VEVENT
DTSTART;TZID=Asia/Dubai:20250722T183000
DTEND;TZID=Asia/Dubai:20250722T200000
DTSTAMP:20260423T175100
CREATED:20250701T070439Z
LAST-MODIFIED:20250701T073755Z
UID:727-1753209000-1753214400@ielsanmarcos.org
SUMMARY:Reunión Grupo AA en San Marcos
DESCRIPTION:
URL:https://ielsanmarcos.org/evento/reunion-grupo-aa-en-san-marcos-12/
CATEGORIES:Iglesia Evangélica Luterana San Marcos
END:VEVENT
END:VCALENDAR