BEGIN:VCALENDAR
VERSION:2.0
PRODID:-//Iglesia Evangélica Luterana San Marcos - ECPv6.15.20//NONSGML v1.0//EN
CALSCALE:GREGORIAN
METHOD:PUBLISH
X-WR-CALNAME:Iglesia Evangélica Luterana San Marcos
X-ORIGINAL-URL:https://ielsanmarcos.org
X-WR-CALDESC:Eventos para Iglesia Evangélica Luterana San Marcos
REFRESH-INTERVAL;VALUE=DURATION:PT1H
X-Robots-Tag:noindex
X-PUBLISHED-TTL:PT1H
BEGIN:VTIMEZONE
TZID:Asia/Dubai
BEGIN:STANDARD
TZOFFSETFROM:+0400
TZOFFSETTO:+0400
TZNAME:+04
DTSTART:20240101T000000
END:STANDARD
END:VTIMEZONE
BEGIN:VEVENT
DTSTART;TZID=Asia/Dubai:20250813T170000
DTEND;TZID=Asia/Dubai:20250813T190000
DTSTAMP:20260423T154233
CREATED:20250730T234307Z
LAST-MODIFIED:20250730T234307Z
UID:1060-1755104400-1755111600@ielsanmarcos.org
SUMMARY:Ensayo Cantoras
DESCRIPTION:
URL:https://ielsanmarcos.org/evento/ensayo-cantoras-12/
CATEGORIES:Iglesia Evangélica Luterana San Marcos
END:VEVENT
END:VCALENDAR