BEGIN:VCALENDAR
VERSION:2.0
PRODID:-//Iglesia Evangélica Luterana San Marcos - ECPv6.15.20//NONSGML v1.0//EN
CALSCALE:GREGORIAN
METHOD:PUBLISH
X-WR-CALNAME:Iglesia Evangélica Luterana San Marcos
X-ORIGINAL-URL:https://ielsanmarcos.org
X-WR-CALDESC:Eventos para Iglesia Evangélica Luterana San Marcos
REFRESH-INTERVAL;VALUE=DURATION:PT1H
X-Robots-Tag:noindex
X-PUBLISHED-TTL:PT1H
BEGIN:VTIMEZONE
TZID:Asia/Dubai
BEGIN:STANDARD
TZOFFSETFROM:+0400
TZOFFSETTO:+0400
TZNAME:+04
DTSTART:20240101T000000
END:STANDARD
END:VTIMEZONE
BEGIN:VEVENT
DTSTART;TZID=Asia/Dubai:20250629T150000
DTEND;TZID=Asia/Dubai:20250629T170000
DTSTAMP:20260423T172836
CREATED:20250601T030452Z
LAST-MODIFIED:20250601T030452Z
UID:508-1751209200-1751216400@ielsanmarcos.org
SUMMARY:Encuentro Mujeres en Misión
DESCRIPTION:Encuentro mensual del grupo Mujeres en Misión.
URL:https://ielsanmarcos.org/evento/encuentro-mujeres-en-mision/
CATEGORIES:Mujeres en Misión
END:VEVENT
END:VCALENDAR