BEGIN:VCALENDAR
VERSION:2.0
PRODID:-//Iglesia Evangélica Luterana San Marcos - ECPv6.15.20//NONSGML v1.0//EN
CALSCALE:GREGORIAN
METHOD:PUBLISH
X-WR-CALNAME:Iglesia Evangélica Luterana San Marcos
X-ORIGINAL-URL:https://ielsanmarcos.org
X-WR-CALDESC:Eventos para Iglesia Evangélica Luterana San Marcos
REFRESH-INTERVAL;VALUE=DURATION:PT1H
X-Robots-Tag:noindex
X-PUBLISHED-TTL:PT1H
BEGIN:VTIMEZONE
TZID:Asia/Dubai
BEGIN:STANDARD
TZOFFSETFROM:+0400
TZOFFSETTO:+0400
TZNAME:+04
DTSTART:20240101T000000
END:STANDARD
END:VTIMEZONE
BEGIN:VEVENT
DTSTART;TZID=Asia/Dubai:20250601T100000
DTEND;TZID=Asia/Dubai:20250601T113000
DTSTAMP:20260423T151811
CREATED:20250531T221720Z
LAST-MODIFIED:20250601T025400Z
UID:455-1748772000-1748777400@ielsanmarcos.org
SUMMARY:Oficio Mayor y Eucaristía – 1 de junio
DESCRIPTION:Liturgista: Imagda CruzAnfitriones/Ujieres: Zahíra y Xavier RamírezProyección: Belenni GonzálezTransmisión: Jeannette Sierra \nLecturas:Hechos 16:16-34Salmo 97Apocalipsis 22:12-14\,16-17\,20-21Juan 17:20-26
URL:https://ielsanmarcos.org/evento/oficio-mayor-y-eucaristia-1-de-junio/
CATEGORIES:Oficio Mayor y Eucaristía
END:VEVENT
BEGIN:VEVENT
DTSTART;TZID=Asia/Dubai:20250608T100000
DTEND;TZID=Asia/Dubai:20250608T113000
DTSTAMP:20260423T151811
CREATED:20250601T025400Z
LAST-MODIFIED:20250601T025400Z
UID:477-1749376800-1749382200@ielsanmarcos.org
SUMMARY:Oficio Mayor y Eucaristía – 8 de junio (Pentecostés)
DESCRIPTION:Liturgista: Francis RamosAnfitriones/Ujieres: Beni Serrano y Yazmín FigueroaProyección: Amaury OyolaTransmisión: Marlyn Díaz \nLecturas:Hechos 2:1-21Salmo 104:24-34\,35bRomanos 8:14-17Juan 14:8-17
URL:https://ielsanmarcos.org/evento/oficio-mayor-y-eucaristia-8-de-junio-pentecostes/
CATEGORIES:Oficio Mayor y Eucaristía
END:VEVENT
BEGIN:VEVENT
DTSTART;TZID=Asia/Dubai:20250615T100000
DTEND;TZID=Asia/Dubai:20250615T113000
DTSTAMP:20260423T151811
CREATED:20250601T025400Z
LAST-MODIFIED:20250601T025400Z
UID:478-1749981600-1749987000@ielsanmarcos.org
SUMMARY:Oficio Mayor y Eucaristía – 15 de junio (Santísima Trinidad)
DESCRIPTION:Liturgista: Belenni GonzálezAnfitriones/Ujieres: Ceci Rivera y Myrna Ortiz -ValerieProyección: Mariányili SantiagoTransmisión: Génesis Hernández \nLecturas:Proverbios 8:1-4\,22-31Salmo 8Romanos 5:1-5Juan 16:12-15 \n¡Feliz día de los Padres!
URL:https://ielsanmarcos.org/evento/oficio-mayor-y-eucaristia-15-de-junio-santisima-trinidad/
CATEGORIES:Oficio Mayor y Eucaristía
END:VEVENT
BEGIN:VEVENT
DTSTART;TZID=Asia/Dubai:20250622T100000
DTEND;TZID=Asia/Dubai:20250622T113000
DTSTAMP:20260423T151811
CREATED:20250601T025400Z
LAST-MODIFIED:20250601T025400Z
UID:479-1750586400-1750591800@ielsanmarcos.org
SUMMARY:Oficio Mayor y Eucaristía – 22 de junio
DESCRIPTION:Liturgista: Ivonne GutiérrezAnfitriones/Ujieres: Wilma y Eric MercadoProyección: Zahíra C. RodríguezTransmisión: Marlyn Díaz \nLecturas:Isaías 65:1-9Salmo 22:19-28Gálatas 3:23-29Lucas 8:26-39
URL:https://ielsanmarcos.org/evento/oficio-mayor-y-eucaristia-22-de-junio/
CATEGORIES:Oficio Mayor y Eucaristía
END:VEVENT
BEGIN:VEVENT
DTSTART;TZID=Asia/Dubai:20250629T100000
DTEND;TZID=Asia/Dubai:20250629T113000
DTSTAMP:20260423T151811
CREATED:20250601T025400Z
LAST-MODIFIED:20250601T025400Z
UID:480-1751191200-1751196600@ielsanmarcos.org
SUMMARY:Oficio Mayor y Eucaristía – 29 de junio
DESCRIPTION:Liturgista: Amaury OyolaAnfitriones/Ujieres: Luli Jeannot y Jonathan RamosProyección: Idalia NegrónTransmisión: Jeannette Sierra \nLecturas:1 Reyes 19:15-16\,19-21Salmo 16Gálatas 5:1\,13-25Lucas 9:51-62 \nAcompañamiento de Brazos Extendidos
URL:https://ielsanmarcos.org/evento/oficio-mayor-y-eucaristia-29-de-junio/
CATEGORIES:Oficio Mayor y Eucaristía
END:VEVENT
END:VCALENDAR