BEGIN:VCALENDAR
VERSION:2.0
PRODID:-//Iglesia Evangélica Luterana San Marcos - ECPv6.15.20//NONSGML v1.0//EN
CALSCALE:GREGORIAN
METHOD:PUBLISH
X-WR-CALNAME:Iglesia Evangélica Luterana San Marcos
X-ORIGINAL-URL:https://ielsanmarcos.org
X-WR-CALDESC:Eventos para Iglesia Evangélica Luterana San Marcos
REFRESH-INTERVAL;VALUE=DURATION:PT1H
X-Robots-Tag:noindex
X-PUBLISHED-TTL:PT1H
BEGIN:VTIMEZONE
TZID:Asia/Dubai
BEGIN:STANDARD
TZOFFSETFROM:+0400
TZOFFSETTO:+0400
TZNAME:+04
DTSTART:20240101T000000
END:STANDARD
END:VTIMEZONE
BEGIN:VEVENT
DTSTART;TZID=Asia/Dubai:20250601T100000
DTEND;TZID=Asia/Dubai:20250601T113000
DTSTAMP:20260423T163330
CREATED:20250531T221720Z
LAST-MODIFIED:20250601T025400Z
UID:455-1748772000-1748777400@ielsanmarcos.org
SUMMARY:Oficio Mayor y Eucaristía – 1 de junio
DESCRIPTION:Liturgista: Imagda CruzAnfitriones/Ujieres: Zahíra y Xavier RamírezProyección: Belenni GonzálezTransmisión: Jeannette Sierra \nLecturas:Hechos 16:16-34Salmo 97Apocalipsis 22:12-14\,16-17\,20-21Juan 17:20-26
URL:https://ielsanmarcos.org/evento/oficio-mayor-y-eucaristia-1-de-junio/
CATEGORIES:Oficio Mayor y Eucaristía
END:VEVENT
END:VCALENDAR