BEGIN:VCALENDAR
VERSION:2.0
PRODID:-//Iglesia Evangélica Luterana San Marcos - ECPv6.15.20//NONSGML v1.0//EN
CALSCALE:GREGORIAN
METHOD:PUBLISH
X-ORIGINAL-URL:https://ielsanmarcos.org
X-WR-CALDESC:Eventos para Iglesia Evangélica Luterana San Marcos
REFRESH-INTERVAL;VALUE=DURATION:PT1H
X-Robots-Tag:noindex
X-PUBLISHED-TTL:PT1H
BEGIN:VTIMEZONE
TZID:Asia/Dubai
BEGIN:STANDARD
TZOFFSETFROM:+0400
TZOFFSETTO:+0400
TZNAME:+04
DTSTART:20240101T000000
END:STANDARD
END:VTIMEZONE
BEGIN:VEVENT
DTSTART;TZID=Asia/Dubai:20250622T100000
DTEND;TZID=Asia/Dubai:20250622T113000
DTSTAMP:20260423T163349
CREATED:20250601T025400Z
LAST-MODIFIED:20250601T025400Z
UID:479-1750586400-1750591800@ielsanmarcos.org
SUMMARY:Oficio Mayor y Eucaristía – 22 de junio
DESCRIPTION:Liturgista: Ivonne GutiérrezAnfitriones/Ujieres: Wilma y Eric MercadoProyección: Zahíra C. RodríguezTransmisión: Marlyn Díaz \nLecturas:Isaías 65:1-9Salmo 22:19-28Gálatas 3:23-29Lucas 8:26-39
URL:https://ielsanmarcos.org/evento/oficio-mayor-y-eucaristia-22-de-junio/
CATEGORIES:Oficio Mayor y Eucaristía
END:VEVENT
END:VCALENDAR