BEGIN:VCALENDAR
VERSION:2.0
PRODID:-//Iglesia Evangélica Luterana San Marcos - ECPv6.15.16//NONSGML v1.0//EN
CALSCALE:GREGORIAN
METHOD:PUBLISH
X-WR-CALNAME:Iglesia Evangélica Luterana San Marcos
X-ORIGINAL-URL:https://ielsanmarcos.org
X-WR-CALDESC:Eventos para Iglesia Evangélica Luterana San Marcos
REFRESH-INTERVAL;VALUE=DURATION:PT1H
X-Robots-Tag:noindex
X-PUBLISHED-TTL:PT1H
BEGIN:VTIMEZONE
TZID:Asia/Dubai
BEGIN:STANDARD
TZOFFSETFROM:+0400
TZOFFSETTO:+0400
TZNAME:+04
DTSTART:20240101T000000
END:STANDARD
END:VTIMEZONE
BEGIN:VTIMEZONE
TZID:America/Puerto_Rico
BEGIN:STANDARD
TZOFFSETFROM:-0400
TZOFFSETTO:-0400
TZNAME:AST
DTSTART:20250101T000000
END:STANDARD
END:VTIMEZONE
BEGIN:VEVENT
DTSTART;TZID=Asia/Dubai:20251203T190000
DTEND;TZID=Asia/Dubai:20251203T203000
DTSTAMP:20260420T110235
CREATED:20251004T005218Z
LAST-MODIFIED:20251004T005218Z
UID:1443-1764788400-1764793800@ielsanmarcos.org
SUMMARY:La fe en diálogo con la vida (por Zoom)
DESCRIPTION:Conversatorio virtual por Zoom. Encuentro semanal de reflexión comunitaria.
URL:https://ielsanmarcos.org/evento/la-fe-en-dialogo-con-la-vida-por-zoom-14/
END:VEVENT
BEGIN:VEVENT
DTSTART;TZID=Asia/Dubai:20251204T140000
DTEND;TZID=Asia/Dubai:20251204T170000
DTSTAMP:20260420T110235
CREATED:20251004T010554Z
LAST-MODIFIED:20251004T010554Z
UID:1515-1764856800-1764867600@ielsanmarcos.org
SUMMARY:Horas de oficina
DESCRIPTION:Horario de oficina administrativaMartes: 9:00 AM – 5:00 PMJueves: 2:00 PM – 5:00 PM \nPara cualquier gestión\, puede comunicarse al teléfono (787) 708-5845.
URL:https://ielsanmarcos.org/evento/horas-de-oficina-33/
CATEGORIES:Horas de Oficina
END:VEVENT
BEGIN:VEVENT
DTSTART;TZID=Asia/Dubai:20251206T183000
DTEND;TZID=Asia/Dubai:20251206T200000
DTSTAMP:20260420T110235
CREATED:20251004T005719Z
LAST-MODIFIED:20251004T005719Z
UID:1467-1765045800-1765051200@ielsanmarcos.org
SUMMARY:Reunión Grupo AA en San Marcos
DESCRIPTION:
URL:https://ielsanmarcos.org/evento/reunion-grupo-aa-en-san-marcos-53/
END:VEVENT
BEGIN:VEVENT
DTSTART;TZID=Asia/Dubai:20251207T100000
DTEND;TZID=Asia/Dubai:20251207T233000
DTSTAMP:20260420T110235
CREATED:20251202T165619Z
LAST-MODIFIED:20251202T165619Z
UID:1708-1765101600-1765150200@ielsanmarcos.org
SUMMARY:Oficio Mayor y Eucaristía - Segundo Domingo de Adviento
DESCRIPTION:Primera Lectura: Isaías 11:1-10 \nSalmo 72:1-7\, 18-19 \nSegunda Lectura: Romanos 15:4-13 \nEvangelio: San Mateo 3:1-12 \nLiturgista: Imagda Cruz \nLectora: Ivonne Sanabria \nAnfitriones/Ujieres: Francis Ramos \nProyección: Zahíra C. Rodríguez \nTransmisión: Jeannette Sierra \nContadoras: Luli y Youmara \nAltar: Ivonne Gutierrez
URL:https://ielsanmarcos.org/evento/oficio-mayor-y-eucaristia-segundo-domingo-de-adviento/
END:VEVENT
BEGIN:VEVENT
DTSTART;TZID=Asia/Dubai:20251209T090000
DTEND;TZID=Asia/Dubai:20251209T170000
DTSTAMP:20260420T110235
CREATED:20251004T010859Z
LAST-MODIFIED:20251004T010859Z
UID:1500-1765270800-1765299600@ielsanmarcos.org
SUMMARY:Horas de oficina
DESCRIPTION:Horario de oficina administrativaMartes: 9:00 AM – 5:00 PMJueves: 2:00 PM – 5:00 PM \nPara cualquier gestión\, puede comunicarse al teléfono (787) 708-5845.
URL:https://ielsanmarcos.org/evento/horas-de-oficina-45/
CATEGORIES:Horas de Oficina
END:VEVENT
BEGIN:VEVENT
DTSTART;TZID=Asia/Dubai:20251209T100000
DTEND;TZID=Asia/Dubai:20251209T113000
DTSTAMP:20260420T110235
CREATED:20251004T004759Z
LAST-MODIFIED:20251004T004759Z
UID:1415-1765274400-1765279800@ielsanmarcos.org
SUMMARY:Estudio Bíblico y Oración
DESCRIPTION:
URL:https://ielsanmarcos.org/evento/estudio-biblico-y-oracion-28/
END:VEVENT
BEGIN:VEVENT
DTSTART;TZID=Asia/Dubai:20251209T183000
DTEND;TZID=Asia/Dubai:20251209T200000
DTSTAMP:20260420T110235
CREATED:20251004T004432Z
LAST-MODIFIED:20251004T004432Z
UID:1403-1765305000-1765310400@ielsanmarcos.org
SUMMARY:Reunión Grupo AA en San Marcos
DESCRIPTION:
URL:https://ielsanmarcos.org/evento/reunion-grupo-aa-en-san-marcos-43/
END:VEVENT
BEGIN:VEVENT
DTSTART;TZID=Asia/Dubai:20251210T190000
DTEND;TZID=Asia/Dubai:20251210T203000
DTSTAMP:20260420T110235
CREATED:20251004T005228Z
LAST-MODIFIED:20251004T005228Z
UID:1442-1765393200-1765398600@ielsanmarcos.org
SUMMARY:La fe en diálogo con la vida (por Zoom)
DESCRIPTION:Conversatorio virtual por Zoom. Encuentro semanal de reflexión comunitaria.
URL:https://ielsanmarcos.org/evento/la-fe-en-dialogo-con-la-vida-por-zoom-15/
END:VEVENT
BEGIN:VEVENT
DTSTART;TZID=Asia/Dubai:20251211T140000
DTEND;TZID=Asia/Dubai:20251211T170000
DTSTAMP:20260420T110235
CREATED:20251004T010603Z
LAST-MODIFIED:20251004T010603Z
UID:1514-1765461600-1765472400@ielsanmarcos.org
SUMMARY:Horas de oficina
DESCRIPTION:Horario de oficina administrativaMartes: 9:00 AM – 5:00 PMJueves: 2:00 PM – 5:00 PM \nPara cualquier gestión\, puede comunicarse al teléfono (787) 708-5845.
URL:https://ielsanmarcos.org/evento/horas-de-oficina-34/
CATEGORIES:Horas de Oficina
END:VEVENT
BEGIN:VEVENT
DTSTART;TZID=Asia/Dubai:20251213T183000
DTEND;TZID=Asia/Dubai:20251213T200000
DTSTAMP:20260420T110235
CREATED:20251004T005728Z
LAST-MODIFIED:20251004T005728Z
UID:1465-1765650600-1765656000@ielsanmarcos.org
SUMMARY:Reunión Grupo AA en San Marcos
DESCRIPTION:
URL:https://ielsanmarcos.org/evento/reunion-grupo-aa-en-san-marcos-54/
END:VEVENT
BEGIN:VEVENT
DTSTART;TZID=Asia/Dubai:20251214T100000
DTEND;TZID=Asia/Dubai:20251214T233000
DTSTAMP:20260420T110235
CREATED:20251202T170027Z
LAST-MODIFIED:20251202T170027Z
UID:1707-1765706400-1765755000@ielsanmarcos.org
SUMMARY:Oficio Mayor y Eucaristía - Tercer Domingo de Adviento
DESCRIPTION:Primera Lectura: Isaías 35:1-10 \nSalmo 146:5-10 \nSegunda Lectura: Santiago 5:7-10 \nEvangelio: San Mateo 11:2-11 \nLiturgista: Francis Ramos \nLectora: Belenni González \nAnfitriones/Ujieres: Wilma y Eric Mercado \nProyección: Amaury Oyola \nTransmisión: Marlyn Díaz \nContadoras: Marlyn y Yazmin \nMinisterio del altar: Ivonne Gutierrez
URL:https://ielsanmarcos.org/evento/oficio-mayor-y-eucaristia-tercer-domingo-de-adviento/
END:VEVENT
BEGIN:VEVENT
DTSTART;TZID=Asia/Dubai:20251216T100000
DTEND;TZID=Asia/Dubai:20251216T113000
DTSTAMP:20260420T110235
CREATED:20251004T004811Z
LAST-MODIFIED:20251004T004811Z
UID:1414-1765879200-1765884600@ielsanmarcos.org
SUMMARY:Estudio Bíblico y Oración
DESCRIPTION:
URL:https://ielsanmarcos.org/evento/estudio-biblico-y-oracion-29/
END:VEVENT
BEGIN:VEVENT
DTSTART;TZID=Asia/Dubai:20251216T140000
DTEND;TZID=Asia/Dubai:20251216T170000
DTSTAMP:20260420T110235
CREATED:20251004T010911Z
LAST-MODIFIED:20251004T010911Z
UID:1501-1765893600-1765904400@ielsanmarcos.org
SUMMARY:Horas de oficina
DESCRIPTION:Horario de oficina administrativaMartes: 9:00 AM – 5:00 PMJueves: 2:00 PM – 5:00 PM \nPara cualquier gestión\, puede comunicarse al teléfono (787) 708-5845.
URL:https://ielsanmarcos.org/evento/horas-de-oficina-46/
CATEGORIES:Horas de Oficina
END:VEVENT
BEGIN:VEVENT
DTSTART;TZID=Asia/Dubai:20251216T183000
DTEND;TZID=Asia/Dubai:20251216T200000
DTSTAMP:20260420T110235
CREATED:20251004T004231Z
LAST-MODIFIED:20251004T004256Z
UID:1394-1765909800-1765915200@ielsanmarcos.org
SUMMARY:Reunión Grupo AA en San Marcos
DESCRIPTION:
URL:https://ielsanmarcos.org/evento/reunion-grupo-aa-en-san-marcos-40/
END:VEVENT
BEGIN:VEVENT
DTSTART;TZID=Asia/Dubai:20251217T190000
DTEND;TZID=Asia/Dubai:20251217T203000
DTSTAMP:20260420T110235
CREATED:20251004T005332Z
LAST-MODIFIED:20251004T005332Z
UID:1459-1765998000-1766003400@ielsanmarcos.org
SUMMARY:La fe en diálogo con la vida (por Zoom)
DESCRIPTION:Conversatorio virtual por Zoom. Encuentro semanal de reflexión comunitaria.
URL:https://ielsanmarcos.org/evento/la-fe-en-dialogo-con-la-vida-por-zoom-16/
END:VEVENT
BEGIN:VEVENT
DTSTART;TZID=Asia/Dubai:20251218T140000
DTEND;TZID=Asia/Dubai:20251218T170000
DTSTAMP:20260420T110235
CREATED:20251004T010613Z
LAST-MODIFIED:20251004T010613Z
UID:1513-1766066400-1766077200@ielsanmarcos.org
SUMMARY:Horas de oficina
DESCRIPTION:Horario de oficina administrativaMartes: 9:00 AM – 5:00 PMJueves: 2:00 PM – 5:00 PM \nPara cualquier gestión\, puede comunicarse al teléfono (787) 708-5845.
URL:https://ielsanmarcos.org/evento/horas-de-oficina-35/
CATEGORIES:Horas de Oficina
END:VEVENT
BEGIN:VEVENT
DTSTART;TZID=Asia/Dubai:20251220T183000
DTEND;TZID=Asia/Dubai:20251220T200000
DTSTAMP:20260420T110235
CREATED:20251004T005738Z
LAST-MODIFIED:20251004T005738Z
UID:1466-1766255400-1766260800@ielsanmarcos.org
SUMMARY:Reunión Grupo AA en San Marcos
DESCRIPTION:
URL:https://ielsanmarcos.org/evento/reunion-grupo-aa-en-san-marcos-55/
END:VEVENT
BEGIN:VEVENT
DTSTART;TZID=Asia/Dubai:20251221T100000
DTEND;TZID=Asia/Dubai:20251221T233000
DTSTAMP:20260420T110235
CREATED:20251202T170329Z
LAST-MODIFIED:20251202T170329Z
UID:1706-1766311200-1766359800@ielsanmarcos.org
SUMMARY:Oficio Mayor y Eucaristía - Cuarto Domingo de Adviento
DESCRIPTION:Primera Lectura: Isaías 7:10-16 \nSalmo 80:1-7\, 17-19 \nSegunda Lectura: Romanos 1:1-7 \nEvangelio: San Mateo 1:18-25 \nLiturgista: Ivonne Gutiérrez \nLectora: Mildred Pérez \nAnfitriones/Ujieres: Giara y Javier Vázquez \nProyección: Mariana Maldonado \nTransmisión: Génesis Hernández \nContadoras: Amagie y Mayra \nMinisterio del altar: Ivonne Gutierrez \n5:00 PM a 6:00 PM – ORACION CONTEMPLATIVA TAIZÉ \n  \n 
URL:https://ielsanmarcos.org/evento/oficio-mayor-y-eucaristia-cuarto-domingo-de-adviento/
END:VEVENT
BEGIN:VEVENT
DTSTART;TZID=Asia/Dubai:20251223T090000
DTEND;TZID=Asia/Dubai:20251223T170000
DTSTAMP:20260420T110235
CREATED:20251004T010925Z
LAST-MODIFIED:20251004T010925Z
UID:1499-1766480400-1766509200@ielsanmarcos.org
SUMMARY:Horas de oficina
DESCRIPTION:Horario de oficina administrativaMartes: 9:00 AM – 5:00 PMJueves: 2:00 PM – 5:00 PM \nPara cualquier gestión\, puede comunicarse al teléfono (787) 708-5845.
URL:https://ielsanmarcos.org/evento/horas-de-oficina-47/
CATEGORIES:Horas de Oficina
END:VEVENT
BEGIN:VEVENT
DTSTART;TZID=Asia/Dubai:20251223T100000
DTEND;TZID=Asia/Dubai:20251223T113000
DTSTAMP:20260420T110235
CREATED:20251004T004822Z
LAST-MODIFIED:20251004T004822Z
UID:1413-1766484000-1766489400@ielsanmarcos.org
SUMMARY:Estudio Bíblico y Oración
DESCRIPTION:
URL:https://ielsanmarcos.org/evento/estudio-biblico-y-oracion-30/
END:VEVENT
BEGIN:VEVENT
DTSTART;TZID=Asia/Dubai:20251223T183000
DTEND;TZID=Asia/Dubai:20251223T200000
DTSTAMP:20260420T110235
CREATED:20251004T004221Z
LAST-MODIFIED:20251004T004304Z
UID:1395-1766514600-1766520000@ielsanmarcos.org
SUMMARY:Reunión Grupo AA en San Marcos
DESCRIPTION:
URL:https://ielsanmarcos.org/evento/reunion-grupo-aa-en-san-marcos-39/
END:VEVENT
BEGIN:VEVENT
DTSTART;TZID=Asia/Dubai:20251227T183000
DTEND;TZID=Asia/Dubai:20251227T200000
DTSTAMP:20260420T110235
CREATED:20251004T005749Z
LAST-MODIFIED:20251004T005749Z
UID:1464-1766860200-1766865600@ielsanmarcos.org
SUMMARY:Reunión Grupo AA en San Marcos
DESCRIPTION:
URL:https://ielsanmarcos.org/evento/reunion-grupo-aa-en-san-marcos-56/
END:VEVENT
BEGIN:VEVENT
DTSTART;TZID=Asia/Dubai:20251228T100000
DTEND;TZID=Asia/Dubai:20251228T233000
DTSTAMP:20260420T110235
CREATED:20251202T170609Z
LAST-MODIFIED:20251202T170609Z
UID:1705-1766916000-1766964600@ielsanmarcos.org
SUMMARY:Oficio Mayor y Eucaristía - Primer Domingo de Navidad
DESCRIPTION:Primera Lectura: Isaías 63:7-9 \nSalmo 148 \nSegunda Lectura: Hebreos 2:10-18 \nEvangelio: San Mateo 2:13-23 \nLiturgista: Mildred I. Pérez \nLectora: Mayra Vázquez \nAnfitriones/Ujieres: Albis y José García \nProyección: Zahíra C. Rodríguez \nTransmisión: Jeanette Sierra \nContadoras: Marianyili y Zahira \nMinisterio del altar: Ivonne Gutierrez \nBrazos Extendidos: Francis Ramos y Annie González
URL:https://ielsanmarcos.org/evento/oficio-mayor-y-eucaristia-primer-domingo-de-navidad/
END:VEVENT
BEGIN:VEVENT
DTSTART;TZID=Asia/Dubai:20251230T090000
DTEND;TZID=Asia/Dubai:20251230T170000
DTSTAMP:20260420T110235
CREATED:20251004T011036Z
LAST-MODIFIED:20251004T011036Z
UID:1512-1767085200-1767114000@ielsanmarcos.org
SUMMARY:Horas de oficina
DESCRIPTION:Horario de oficina administrativaMartes: 9:00 AM – 5:00 PMJueves: 2:00 PM – 5:00 PM \nPara cualquier gestión\, puede comunicarse al teléfono (787) 708-5845.
URL:https://ielsanmarcos.org/evento/horas-de-oficina-48/
CATEGORIES:Horas de Oficina
END:VEVENT
BEGIN:VEVENT
DTSTART;TZID=Asia/Dubai:20251230T100000
DTEND;TZID=Asia/Dubai:20251230T113000
DTSTAMP:20260420T110235
CREATED:20251004T004832Z
LAST-MODIFIED:20251004T004832Z
UID:1412-1767088800-1767094200@ielsanmarcos.org
SUMMARY:Estudio Bíblico y Oración
DESCRIPTION:
URL:https://ielsanmarcos.org/evento/estudio-biblico-y-oracion-31/
END:VEVENT
BEGIN:VEVENT
DTSTART;TZID=Asia/Dubai:20251230T183000
DTEND;TZID=Asia/Dubai:20251230T200000
DTSTAMP:20260420T110235
CREATED:20251004T004317Z
LAST-MODIFIED:20251004T004317Z
UID:1401-1767119400-1767124800@ielsanmarcos.org
SUMMARY:Reunión Grupo AA en San Marcos
DESCRIPTION:
URL:https://ielsanmarcos.org/evento/reunion-grupo-aa-en-san-marcos-41/
END:VEVENT
BEGIN:VEVENT
DTSTART;VALUE=DATE:20260101
DTEND;VALUE=DATE:20260102
DTSTAMP:20260420T110235
CREATED:20251231T122349Z
LAST-MODIFIED:20251231T122349Z
UID:1894-1767225600-1767311999@ielsanmarcos.org
SUMMARY:Año Nuevo
DESCRIPTION:
URL:https://ielsanmarcos.org/evento/ano-nuevo/
END:VEVENT
BEGIN:VEVENT
DTSTART;TZID=Asia/Dubai:20260103T183000
DTEND;TZID=Asia/Dubai:20260103T200000
DTSTAMP:20260420T110235
CREATED:20251230T222610Z
LAST-MODIFIED:20251230T222610Z
UID:1855-1767465000-1767470400@ielsanmarcos.org
SUMMARY:Reunión Grupo AA en San Marcos
DESCRIPTION:
URL:https://ielsanmarcos.org/evento/reunion-grupo-aa-en-san-marcos-61/
END:VEVENT
BEGIN:VEVENT
DTSTART;TZID=Asia/Dubai:20260104T100000
DTEND;TZID=Asia/Dubai:20260104T233000
DTSTAMP:20260420T110235
CREATED:20251230T215443Z
LAST-MODIFIED:20251231T123031Z
UID:1825-1767520800-1767569400@ielsanmarcos.org
SUMMARY:Oficio Mayor y Eucaristía - Epifanía del Señor
DESCRIPTION:Primera Lectura: Isaías 60:1-6 \nSalmo 72:1-6\, 10-14 \nSegunda Lectura: Efesios 3:1-12 \nEvangelio: San Mateo 2:1-12 \nCelebrante: Pr. Gabriel Ñanco \nLiturgista: Imagda Cruz \nLector: Ángel Rivera \nAnfitriones/Ujieres: Giara y Javier Vázquez \nProyección: Zahíra C. Rodríguez \nTransmisión: Jeannette Sierra \nContadoras: Idalia y Yazmín \nMinisterio del altar: Mayra L. Vázquez \n Fiesta de Navidad de San Marcos \n  \n \n 
URL:https://ielsanmarcos.org/evento/epifania/
END:VEVENT
BEGIN:VEVENT
DTSTART;VALUE=DATE:20260106
DTEND;VALUE=DATE:20260107
DTSTAMP:20260420T110235
CREATED:20251231T122711Z
LAST-MODIFIED:20251231T122711Z
UID:1896-1767657600-1767743999@ielsanmarcos.org
SUMMARY:Día de los Reyes Magos (Epifanía)
DESCRIPTION:
URL:https://ielsanmarcos.org/evento/dia-de-los-reyes-magos-epifania/
END:VEVENT
END:VCALENDAR