BEGIN:VCALENDAR
VERSION:2.0
PRODID:-//Iglesia Evangélica Luterana San Marcos - ECPv6.15.16//NONSGML v1.0//EN
CALSCALE:GREGORIAN
METHOD:PUBLISH
X-WR-CALNAME:Iglesia Evangélica Luterana San Marcos
X-ORIGINAL-URL:https://ielsanmarcos.org
X-WR-CALDESC:Eventos para Iglesia Evangélica Luterana San Marcos
REFRESH-INTERVAL;VALUE=DURATION:PT1H
X-Robots-Tag:noindex
X-PUBLISHED-TTL:PT1H
BEGIN:VTIMEZONE
TZID:Asia/Dubai
BEGIN:STANDARD
TZOFFSETFROM:+0400
TZOFFSETTO:+0400
TZNAME:+04
DTSTART:20250101T000000
END:STANDARD
END:VTIMEZONE
BEGIN:VEVENT
DTSTART;TZID=Asia/Dubai:20260430T140000
DTEND;TZID=Asia/Dubai:20260430T170000
DTSTAMP:20260420T013034
CREATED:20260402T152451Z
LAST-MODIFIED:20260402T152451Z
UID:2509-1777557600-1777568400@ielsanmarcos.org
SUMMARY:Horas de oficina
DESCRIPTION:Horario de oficina administrativaMartes: 9:00 AM – 5:00 PMJueves: 2:00 PM – 5:00 PM \nPara cualquier gestión\, puede comunicarse al teléfono (787) 708-5845.
URL:https://ielsanmarcos.org/evento/horas-de-oficina-78/
CATEGORIES:Horas de Oficina
END:VEVENT
END:VCALENDAR