BEGIN:VCALENDAR
VERSION:2.0
PRODID:-//Iglesia Evangélica Luterana San Marcos - ECPv6.15.16//NONSGML v1.0//EN
CALSCALE:GREGORIAN
METHOD:PUBLISH
X-ORIGINAL-URL:https://ielsanmarcos.org
X-WR-CALDESC:Eventos para Iglesia Evangélica Luterana San Marcos
REFRESH-INTERVAL;VALUE=DURATION:PT1H
X-Robots-Tag:noindex
X-PUBLISHED-TTL:PT1H
BEGIN:VTIMEZONE
TZID:Asia/Dubai
BEGIN:STANDARD
TZOFFSETFROM:+0400
TZOFFSETTO:+0400
TZNAME:+04
DTSTART:20250101T000000
END:STANDARD
END:VTIMEZONE
BEGIN:VTIMEZONE
TZID:America/Puerto_Rico
BEGIN:STANDARD
TZOFFSETFROM:-0400
TZOFFSETTO:-0400
TZNAME:AST
DTSTART:20250101T000000
END:STANDARD
END:VTIMEZONE
BEGIN:VEVENT
DTSTART;TZID=Asia/Dubai:20260103T183000
DTEND;TZID=Asia/Dubai:20260103T200000
DTSTAMP:20260420T094045
CREATED:20251230T222610Z
LAST-MODIFIED:20251230T222610Z
UID:1855-1767465000-1767470400@ielsanmarcos.org
SUMMARY:Reunión Grupo AA en San Marcos
DESCRIPTION:
URL:https://ielsanmarcos.org/evento/reunion-grupo-aa-en-san-marcos-61/
END:VEVENT
BEGIN:VEVENT
DTSTART;TZID=Asia/Dubai:20260104T100000
DTEND;TZID=Asia/Dubai:20260104T233000
DTSTAMP:20260420T094045
CREATED:20251230T215443Z
LAST-MODIFIED:20251231T123031Z
UID:1825-1767520800-1767569400@ielsanmarcos.org
SUMMARY:Oficio Mayor y Eucaristía - Epifanía del Señor
DESCRIPTION:Primera Lectura: Isaías 60:1-6 \nSalmo 72:1-6\, 10-14 \nSegunda Lectura: Efesios 3:1-12 \nEvangelio: San Mateo 2:1-12 \nCelebrante: Pr. Gabriel Ñanco \nLiturgista: Imagda Cruz \nLector: Ángel Rivera \nAnfitriones/Ujieres: Giara y Javier Vázquez \nProyección: Zahíra C. Rodríguez \nTransmisión: Jeannette Sierra \nContadoras: Idalia y Yazmín \nMinisterio del altar: Mayra L. Vázquez \n Fiesta de Navidad de San Marcos \n  \n \n 
URL:https://ielsanmarcos.org/evento/epifania/
END:VEVENT
BEGIN:VEVENT
DTSTART;VALUE=DATE:20260106
DTEND;VALUE=DATE:20260107
DTSTAMP:20260420T094045
CREATED:20251231T122711Z
LAST-MODIFIED:20251231T122711Z
UID:1896-1767657600-1767743999@ielsanmarcos.org
SUMMARY:Día de los Reyes Magos (Epifanía)
DESCRIPTION:
URL:https://ielsanmarcos.org/evento/dia-de-los-reyes-magos-epifania/
END:VEVENT
BEGIN:VEVENT
DTSTART;TZID=Asia/Dubai:20260106T183000
DTEND;TZID=Asia/Dubai:20260106T200000
DTSTAMP:20260420T094045
CREATED:20251230T222511Z
LAST-MODIFIED:20251230T222511Z
UID:1859-1767724200-1767729600@ielsanmarcos.org
SUMMARY:Reunión Grupo AA en San Marcos
DESCRIPTION:
URL:https://ielsanmarcos.org/evento/reunion-grupo-aa-en-san-marcos-57/
END:VEVENT
BEGIN:VEVENT
DTSTART;TZID=America/Puerto_Rico:20260108T190000
DTEND;TZID=America/Puerto_Rico:20260108T200000
DTSTAMP:20260420T094045
CREATED:20251230T223121Z
LAST-MODIFIED:20251230T223121Z
UID:1871-1767898800-1767902400@ielsanmarcos.org
SUMMARY:Reunión del Comité Ejecutivo de San Marcos
DESCRIPTION:
URL:https://ielsanmarcos.org/evento/reunion-del-comite-ejecutivo-de-san-marcos/
END:VEVENT
BEGIN:VEVENT
DTSTART;TZID=Asia/Dubai:20260110T183000
DTEND;TZID=Asia/Dubai:20260110T200000
DTSTAMP:20260420T094045
CREATED:20251230T222621Z
LAST-MODIFIED:20251230T222621Z
UID:1854-1768069800-1768075200@ielsanmarcos.org
SUMMARY:Reunión Grupo AA en San Marcos
DESCRIPTION:
URL:https://ielsanmarcos.org/evento/reunion-grupo-aa-en-san-marcos-62/
END:VEVENT
BEGIN:VEVENT
DTSTART;TZID=Asia/Dubai:20260111T100000
DTEND;TZID=Asia/Dubai:20260111T233000
DTSTAMP:20260420T094045
CREATED:20251230T220220Z
LAST-MODIFIED:20251230T220220Z
UID:1827-1768125600-1768174200@ielsanmarcos.org
SUMMARY:Oficio Mayor y Eucaristía - Bautismo de Nuestro Señor
DESCRIPTION:Primera Lectura: Isaías 42:1-9 \nSalmo 29 \nSegunda Lectura: Hechos 10:34-43  \nEvangelio: San Mateo 3:13-17 \nLiturgista: Gilberto Ortiz \nLectora: Belenni González \nAnfitriones/Ujieres: Luli Jeannot y Jonnie Ramos \nProyección: Amaury Oyola \nTransmisión: Marlyn Díaz \nContadoras: Amagie y Youmara \nMinisterio del altar: Mayra L. Vázquez \n  \nDía límite para entrega Informes de Ministerios \n 
URL:https://ielsanmarcos.org/evento/bautismo_de_nuestro_senor/
END:VEVENT
BEGIN:VEVENT
DTSTART;TZID=Asia/Dubai:20260113T090000
DTEND;TZID=Asia/Dubai:20260113T170000
DTSTAMP:20260420T094045
CREATED:20251230T221824Z
LAST-MODIFIED:20251230T221824Z
UID:1843-1768294800-1768323600@ielsanmarcos.org
SUMMARY:Horas de oficina
DESCRIPTION:Horario de oficina administrativaMartes: 9:00 AM – 5:00 PMJueves: 2:00 PM – 5:00 PM \nPara cualquier gestión\, puede comunicarse al teléfono (787) 708-5845.
URL:https://ielsanmarcos.org/evento/horas-de-oficina-32/
CATEGORIES:Horas de Oficina
END:VEVENT
BEGIN:VEVENT
DTSTART;TZID=Asia/Dubai:20260113T183000
DTEND;TZID=Asia/Dubai:20260113T200000
DTSTAMP:20260420T094045
CREATED:20251230T222526Z
LAST-MODIFIED:20251230T222526Z
UID:1857-1768329000-1768334400@ielsanmarcos.org
SUMMARY:Reunión Grupo AA en San Marcos
DESCRIPTION:
URL:https://ielsanmarcos.org/evento/reunion-grupo-aa-en-san-marcos-58/
END:VEVENT
BEGIN:VEVENT
DTSTART;TZID=America/Puerto_Rico:20260113T190000
DTEND;TZID=America/Puerto_Rico:20260113T200000
DTSTAMP:20260420T094045
CREATED:20251230T223700Z
LAST-MODIFIED:20251230T223700Z
UID:1878-1768330800-1768334400@ielsanmarcos.org
SUMMARY:La fe en diálogo con la vida (Zoom)
DESCRIPTION:
URL:https://ielsanmarcos.org/evento/la-fe-en-dialogo-con-la-vida-zoom/
END:VEVENT
BEGIN:VEVENT
DTSTART;TZID=Asia/Dubai:20260114T100000
DTEND;TZID=Asia/Dubai:20260114T113000
DTSTAMP:20260420T094045
CREATED:20251230T221603Z
LAST-MODIFIED:20251230T221603Z
UID:1835-1768384800-1768390200@ielsanmarcos.org
SUMMARY:Estudio Bíblico y Oración
DESCRIPTION:
URL:https://ielsanmarcos.org/evento/estudio-biblico-y-oracion-34/
END:VEVENT
BEGIN:VEVENT
DTSTART;TZID=America/Puerto_Rico:20260114T163000
DTEND;TZID=America/Puerto_Rico:20260114T183000
DTSTAMP:20260420T094045
CREATED:20251230T223505Z
LAST-MODIFIED:20251230T223505Z
UID:1875-1768408200-1768415400@ielsanmarcos.org
SUMMARY:Ensayo Ministerio Música y Adoración San Marcos
DESCRIPTION:
URL:https://ielsanmarcos.org/evento/ensayo-ministerio-musica-y-adoracion-san-marcos/
END:VEVENT
BEGIN:VEVENT
DTSTART;TZID=Asia/Dubai:20260115T140000
DTEND;TZID=Asia/Dubai:20260115T170000
DTSTAMP:20260420T094045
CREATED:20251230T221945Z
LAST-MODIFIED:20251230T221945Z
UID:1840-1768485600-1768496400@ielsanmarcos.org
SUMMARY:Horas de oficina
DESCRIPTION:Horario de oficina administrativaMartes: 9:00 AM – 5:00 PMJueves: 2:00 PM – 5:00 PM \nPara cualquier gestión\, puede comunicarse al teléfono (787) 708-5845.
URL:https://ielsanmarcos.org/evento/horas-de-oficina-51/
CATEGORIES:Horas de Oficina
END:VEVENT
BEGIN:VEVENT
DTSTART;TZID=America/Puerto_Rico:20260117T090000
DTEND;TZID=America/Puerto_Rico:20260117T110000
DTSTAMP:20260420T094045
CREATED:20251230T223202Z
LAST-MODIFIED:20251230T223202Z
UID:1872-1768640400-1768647600@ielsanmarcos.org
SUMMARY:Reunión del Consejo Congregacional de San Marcos
DESCRIPTION:
URL:https://ielsanmarcos.org/evento/reunion-del-consejo-congregacional-de-san-marcos/
END:VEVENT
BEGIN:VEVENT
DTSTART;TZID=Asia/Dubai:20260117T183000
DTEND;TZID=Asia/Dubai:20260117T200000
DTSTAMP:20260420T094045
CREATED:20251230T222639Z
LAST-MODIFIED:20251230T222639Z
UID:1853-1768674600-1768680000@ielsanmarcos.org
SUMMARY:Reunión Grupo AA en San Marcos
DESCRIPTION:
URL:https://ielsanmarcos.org/evento/reunion-grupo-aa-en-san-marcos-63/
END:VEVENT
BEGIN:VEVENT
DTSTART;TZID=Asia/Dubai:20260118T100000
DTEND;TZID=Asia/Dubai:20260118T233000
DTSTAMP:20260420T094045
CREATED:20251230T220804Z
LAST-MODIFIED:20251230T220804Z
UID:1829-1768730400-1768779000@ielsanmarcos.org
SUMMARY:Oficio Mayor y Eucaristía - 2º Domingo después de Epifanía
DESCRIPTION:Primera Lectura: Isaías 49:1-7 \nSalmo 40:1-11 \nSegunda Lectura: 1º Corintios 1:1-9 \nEvangelio: San Juan 1:29-42 \nCelebrante: Pr. Gabriel Ñanco \nLiturgista: Ivonne Gutiérrez \nLector: Marcos Pou \nAnfitriones/Ujieres: Beni\, Ángel y Gabriel Rivera \nProyección: Belenni González \nTransmisión: Génesis Hernández \nContadores: Mildred y Nora \nMinisterio del altar: Mayra L. Vázquez \n 
URL:https://ielsanmarcos.org/evento/segundo_despues_de_epifania/
END:VEVENT
BEGIN:VEVENT
DTSTART;TZID=Asia/Dubai:20260120T090000
DTEND;TZID=Asia/Dubai:20260120T170000
DTSTAMP:20260420T094045
CREATED:20251230T221849Z
LAST-MODIFIED:20251230T221849Z
UID:1842-1768899600-1768928400@ielsanmarcos.org
SUMMARY:Horas de oficina
DESCRIPTION:Horario de oficina administrativaMartes: 9:00 AM – 5:00 PMJueves: 2:00 PM – 5:00 PM \nPara cualquier gestión\, puede comunicarse al teléfono (787) 708-5845.
URL:https://ielsanmarcos.org/evento/horas-de-oficina-49/
CATEGORIES:Horas de Oficina
END:VEVENT
BEGIN:VEVENT
DTSTART;TZID=Asia/Dubai:20260120T183000
DTEND;TZID=Asia/Dubai:20260120T200000
DTSTAMP:20260420T094045
CREATED:20251230T222541Z
LAST-MODIFIED:20251230T222541Z
UID:1858-1768933800-1768939200@ielsanmarcos.org
SUMMARY:Reunión Grupo AA en San Marcos
DESCRIPTION:
URL:https://ielsanmarcos.org/evento/reunion-grupo-aa-en-san-marcos-59/
END:VEVENT
BEGIN:VEVENT
DTSTART;TZID=America/Puerto_Rico:20260120T190000
DTEND;TZID=America/Puerto_Rico:20260120T200000
DTSTAMP:20260420T094045
CREATED:20251230T223728Z
LAST-MODIFIED:20251230T223728Z
UID:1879-1768935600-1768939200@ielsanmarcos.org
SUMMARY:La fe en diálogo con la vida (Zoom)
DESCRIPTION:
URL:https://ielsanmarcos.org/evento/la-fe-en-dialogo-con-la-vida-zoom-2/
END:VEVENT
BEGIN:VEVENT
DTSTART;TZID=Asia/Dubai:20260121T100000
DTEND;TZID=Asia/Dubai:20260121T113000
DTSTAMP:20260420T094045
CREATED:20251230T221555Z
LAST-MODIFIED:20251230T221555Z
UID:1834-1768989600-1768995000@ielsanmarcos.org
SUMMARY:Estudio Bíblico y Oración
DESCRIPTION:
URL:https://ielsanmarcos.org/evento/estudio-biblico-y-oracion-33/
END:VEVENT
BEGIN:VEVENT
DTSTART;TZID=America/Puerto_Rico:20260121T163000
DTEND;TZID=America/Puerto_Rico:20260121T183000
DTSTAMP:20260420T094045
CREATED:20251230T223518Z
LAST-MODIFIED:20251230T223518Z
UID:1876-1769013000-1769020200@ielsanmarcos.org
SUMMARY:Ensayo Ministerio Música y Adoración San Marcos
DESCRIPTION:
URL:https://ielsanmarcos.org/evento/ensayo-ministerio-musica-y-adoracion-san-marcos-2/
END:VEVENT
BEGIN:VEVENT
DTSTART;TZID=Asia/Dubai:20260122T140000
DTEND;TZID=Asia/Dubai:20260122T170000
DTSTAMP:20260420T094045
CREATED:20251230T222002Z
LAST-MODIFIED:20251230T222002Z
UID:1839-1769090400-1769101200@ielsanmarcos.org
SUMMARY:Horas de oficina
DESCRIPTION:Horario de oficina administrativaMartes: 9:00 AM – 5:00 PMJueves: 2:00 PM – 5:00 PM \nPara cualquier gestión\, puede comunicarse al teléfono (787) 708-5845.
URL:https://ielsanmarcos.org/evento/horas-de-oficina-52/
CATEGORIES:Horas de Oficina
END:VEVENT
BEGIN:VEVENT
DTSTART;TZID=Asia/Dubai:20260124T183000
DTEND;TZID=Asia/Dubai:20260124T200000
DTSTAMP:20260420T094045
CREATED:20251230T222650Z
LAST-MODIFIED:20251230T222650Z
UID:1852-1769279400-1769284800@ielsanmarcos.org
SUMMARY:Reunión Grupo AA en San Marcos
DESCRIPTION:
URL:https://ielsanmarcos.org/evento/reunion-grupo-aa-en-san-marcos-64/
END:VEVENT
BEGIN:VEVENT
DTSTART;TZID=Asia/Dubai:20260125T100000
DTEND;TZID=Asia/Dubai:20260125T233000
DTSTAMP:20260420T094045
CREATED:20251230T221332Z
LAST-MODIFIED:20251230T221332Z
UID:1831-1769335200-1769383800@ielsanmarcos.org
SUMMARY:Oficio Mayor y Eucaristía - 3º Domingo después de Epifanía
DESCRIPTION:Primera Lectura: Isaías 9:1-4 \nSalmo 27:1\,4-9 \nSegunda Lectura: 1º Corintios 1:10-18 \nEvangelio: San Mateo 4:12-23 \nCelebrante: Pr. Gabriel Ñanco \nLiturgista: Amaury Oyola \nLectora: Nora Pacheco \nAnfitriones/Ujieres: Wilma Robledo y Eric Mercado \nProyección: Idalia Negrón \nTransmisión: Marlyn Díaz \nContadores: Luli y Mayra \nMinisterio del altar: Mayra L. Vázquez \nBrazos Extendidos: Luli Jeannot y Carmen Díaz \n  \nEntrega Informes para Asamblea Anual de San Marcos \n 
URL:https://ielsanmarcos.org/evento/tercero_despues_de_epifania/
END:VEVENT
BEGIN:VEVENT
DTSTART;TZID=Asia/Dubai:20260127T090000
DTEND;TZID=Asia/Dubai:20260127T170000
DTSTAMP:20260420T094045
CREATED:20251230T221902Z
LAST-MODIFIED:20251230T221902Z
UID:1841-1769504400-1769533200@ielsanmarcos.org
SUMMARY:Horas de oficina
DESCRIPTION:Horario de oficina administrativaMartes: 9:00 AM – 5:00 PMJueves: 2:00 PM – 5:00 PM \nPara cualquier gestión\, puede comunicarse al teléfono (787) 708-5845.
URL:https://ielsanmarcos.org/evento/horas-de-oficina-50/
CATEGORIES:Horas de Oficina
END:VEVENT
BEGIN:VEVENT
DTSTART;TZID=Asia/Dubai:20260127T183000
DTEND;TZID=Asia/Dubai:20260127T200000
DTSTAMP:20260420T094045
CREATED:20251230T222553Z
LAST-MODIFIED:20251230T222553Z
UID:1856-1769538600-1769544000@ielsanmarcos.org
SUMMARY:Reunión Grupo AA en San Marcos
DESCRIPTION:
URL:https://ielsanmarcos.org/evento/reunion-grupo-aa-en-san-marcos-60/
END:VEVENT
BEGIN:VEVENT
DTSTART;TZID=America/Puerto_Rico:20260127T190000
DTEND;TZID=America/Puerto_Rico:20260127T200000
DTSTAMP:20260420T094045
CREATED:20251230T223750Z
LAST-MODIFIED:20251230T223750Z
UID:1880-1769540400-1769544000@ielsanmarcos.org
SUMMARY:La fe en diálogo con la vida (Zoom)
DESCRIPTION:
URL:https://ielsanmarcos.org/evento/la-fe-en-dialogo-con-la-vida-zoom-3/
END:VEVENT
BEGIN:VEVENT
DTSTART;TZID=Asia/Dubai:20260128T100000
DTEND;TZID=Asia/Dubai:20260128T113000
DTSTAMP:20260420T094045
CREATED:20251230T221550Z
LAST-MODIFIED:20251230T221550Z
UID:1833-1769594400-1769599800@ielsanmarcos.org
SUMMARY:Estudio Bíblico y Oración
DESCRIPTION:
URL:https://ielsanmarcos.org/evento/estudio-biblico-y-oracion-32/
END:VEVENT
BEGIN:VEVENT
DTSTART;TZID=America/Puerto_Rico:20260128T163000
DTEND;TZID=America/Puerto_Rico:20260128T183000
DTSTAMP:20260420T094045
CREATED:20251230T223543Z
LAST-MODIFIED:20251230T223543Z
UID:1877-1769617800-1769625000@ielsanmarcos.org
SUMMARY:Ensayo Ministerio Música y Adoración San Marcos
DESCRIPTION:
URL:https://ielsanmarcos.org/evento/ensayo-ministerio-musica-y-adoracion-san-marcos-3/
END:VEVENT
BEGIN:VEVENT
DTSTART;TZID=Asia/Dubai:20260129T140000
DTEND;TZID=Asia/Dubai:20260129T170000
DTSTAMP:20260420T094045
CREATED:20251230T222127Z
LAST-MODIFIED:20251230T222921Z
UID:1850-1769695200-1769706000@ielsanmarcos.org
SUMMARY:Horas de oficina
DESCRIPTION:Horario de oficina administrativaMartes: 9:00 AM – 5:00 PMJueves: 2:00 PM – 5:00 PM \nPara cualquier gestión\, puede comunicarse al teléfono (787) 708-5845.
URL:https://ielsanmarcos.org/evento/horas-de-oficina-53/
CATEGORIES:Horas de Oficina
END:VEVENT
END:VCALENDAR