BEGIN:VCALENDAR
VERSION:2.0
PRODID:-//Iglesia Evangélica Luterana San Marcos - ECPv6.15.16//NONSGML v1.0//EN
CALSCALE:GREGORIAN
METHOD:PUBLISH
X-ORIGINAL-URL:https://ielsanmarcos.org
X-WR-CALDESC:Eventos para Iglesia Evangélica Luterana San Marcos
REFRESH-INTERVAL;VALUE=DURATION:PT1H
X-Robots-Tag:noindex
X-PUBLISHED-TTL:PT1H
BEGIN:VTIMEZONE
TZID:Asia/Dubai
BEGIN:STANDARD
TZOFFSETFROM:+0400
TZOFFSETTO:+0400
TZNAME:+04
DTSTART:20250101T000000
END:STANDARD
END:VTIMEZONE
BEGIN:VTIMEZONE
TZID:America/Puerto_Rico
BEGIN:STANDARD
TZOFFSETFROM:-0400
TZOFFSETTO:-0400
TZNAME:AST
DTSTART:20250101T000000
END:STANDARD
END:VTIMEZONE
BEGIN:VEVENT
DTSTART;TZID=Asia/Dubai:20260128T100000
DTEND;TZID=Asia/Dubai:20260128T113000
DTSTAMP:20260420T094039
CREATED:20251230T221550Z
LAST-MODIFIED:20251230T221550Z
UID:1833-1769594400-1769599800@ielsanmarcos.org
SUMMARY:Estudio Bíblico y Oración
DESCRIPTION:
URL:https://ielsanmarcos.org/evento/estudio-biblico-y-oracion-32/
END:VEVENT
BEGIN:VEVENT
DTSTART;TZID=America/Puerto_Rico:20260128T163000
DTEND;TZID=America/Puerto_Rico:20260128T183000
DTSTAMP:20260420T094039
CREATED:20251230T223543Z
LAST-MODIFIED:20251230T223543Z
UID:1877-1769617800-1769625000@ielsanmarcos.org
SUMMARY:Ensayo Ministerio Música y Adoración San Marcos
DESCRIPTION:
URL:https://ielsanmarcos.org/evento/ensayo-ministerio-musica-y-adoracion-san-marcos-3/
END:VEVENT
BEGIN:VEVENT
DTSTART;TZID=Asia/Dubai:20260129T140000
DTEND;TZID=Asia/Dubai:20260129T170000
DTSTAMP:20260420T094039
CREATED:20251230T222127Z
LAST-MODIFIED:20251230T222921Z
UID:1850-1769695200-1769706000@ielsanmarcos.org
SUMMARY:Horas de oficina
DESCRIPTION:Horario de oficina administrativaMartes: 9:00 AM – 5:00 PMJueves: 2:00 PM – 5:00 PM \nPara cualquier gestión\, puede comunicarse al teléfono (787) 708-5845.
URL:https://ielsanmarcos.org/evento/horas-de-oficina-53/
CATEGORIES:Horas de Oficina
END:VEVENT
BEGIN:VEVENT
DTSTART;TZID=Asia/Dubai:20260131T183000
DTEND;TZID=Asia/Dubai:20260131T200000
DTSTAMP:20260420T094039
CREATED:20251230T222743Z
LAST-MODIFIED:20251230T222743Z
UID:1868-1769884200-1769889600@ielsanmarcos.org
SUMMARY:Reunión Grupo AA en San Marcos
DESCRIPTION:
URL:https://ielsanmarcos.org/evento/reunion-grupo-aa-en-san-marcos-65/
END:VEVENT
BEGIN:VEVENT
DTSTART;TZID=Asia/Dubai:20260201T100000
DTEND;TZID=Asia/Dubai:20260201T233000
DTSTAMP:20260420T094039
CREATED:20260124T062836Z
LAST-MODIFIED:20260124T062836Z
UID:2193-1769940000-1769988600@ielsanmarcos.org
SUMMARY:Oficio Mayor y Eucaristía - 4º Domingo después de Epifanía
DESCRIPTION:Primera Lectura: Miqueas 6:1-8 \nSalmo 15 \nSegunda Lectura: 1 Corintios 1:18-31 \nEvangelio: San Mateo 5:1-12 \nLiturgista: Imagda Cruz \nLectora: Mayra L. Vázquez \nAnfitriones/Ujieres: Giara y Javier Vázquez \nProyección: Idalia Negrón \nTransmisión: Jeannette Sierra \nContadoras: Marlyn y Mayra \nAltar: Amagie Garcia
URL:https://ielsanmarcos.org/evento/oficio-mayor-y-eucaristia-4o-domingo-despues-de-epifania/
END:VEVENT
BEGIN:VEVENT
DTSTART;TZID=Asia/Dubai:20260203T090000
DTEND;TZID=Asia/Dubai:20260203T170000
DTSTAMP:20260420T094039
CREATED:20260124T061138Z
LAST-MODIFIED:20260124T061138Z
UID:2156-1770109200-1770138000@ielsanmarcos.org
SUMMARY:Horas de oficina
DESCRIPTION:Horario de oficina administrativaMartes: 9:00 AM – 5:00 PMJueves: 2:00 PM – 5:00 PM \nPara cualquier gestión\, puede comunicarse al teléfono (787) 708-5845.
URL:https://ielsanmarcos.org/evento/horas-de-oficina-54/
CATEGORIES:Horas de Oficina
END:VEVENT
BEGIN:VEVENT
DTSTART;TZID=Asia/Dubai:20260203T183000
DTEND;TZID=Asia/Dubai:20260203T200000
DTSTAMP:20260420T094039
CREATED:20260124T060437Z
LAST-MODIFIED:20260124T060437Z
UID:2128-1770143400-1770148800@ielsanmarcos.org
SUMMARY:Reunión Grupo AA en San Marcos
DESCRIPTION:
URL:https://ielsanmarcos.org/evento/reunion-grupo-aa-en-san-marcos-66/
END:VEVENT
BEGIN:VEVENT
DTSTART;TZID=America/Puerto_Rico:20260203T190000
DTEND;TZID=America/Puerto_Rico:20260203T203000
DTSTAMP:20260420T094039
CREATED:20260124T061438Z
LAST-MODIFIED:20260124T061438Z
UID:2152-1770145200-1770150600@ielsanmarcos.org
SUMMARY:La fe en diálogo con la vida (Zoom)
DESCRIPTION:Encuentro semanal de reflexión teológica por Zoom. \nMartes\, de 7:00 PM a 8:30 PM \nhttps://us02web.zoom.us/j/87065114992 \nPara comunicarse por teléfono:\n(939) 945-0244\n(787) 945-1488 \nID de reunión: 870 6511 4992
URL:https://ielsanmarcos.org/evento/la-fe-en-dialogo-con-la-vida-zoom-5/
END:VEVENT
BEGIN:VEVENT
DTSTART;TZID=Asia/Dubai:20260204T100000
DTEND;TZID=Asia/Dubai:20260204T113000
DTSTAMP:20260420T094039
CREATED:20260124T061728Z
LAST-MODIFIED:20260124T061728Z
UID:2151-1770199200-1770204600@ielsanmarcos.org
SUMMARY:Estudio Bíblico y Oración
DESCRIPTION:
URL:https://ielsanmarcos.org/evento/estudio-biblico-y-oracion-35/
END:VEVENT
BEGIN:VEVENT
DTSTART;TZID=America/Puerto_Rico:20260204T163000
DTEND;TZID=America/Puerto_Rico:20260204T183000
DTSTAMP:20260420T094039
CREATED:20260124T061623Z
LAST-MODIFIED:20260124T061623Z
UID:2147-1770222600-1770229800@ielsanmarcos.org
SUMMARY:Ensayo Ministerio Música y Adoración San Marcos
DESCRIPTION:
URL:https://ielsanmarcos.org/evento/ensayo-ministerio-musica-y-adoracion-san-marcos-4/
END:VEVENT
BEGIN:VEVENT
DTSTART;TZID=Asia/Dubai:20260205T140000
DTEND;TZID=Asia/Dubai:20260205T170000
DTSTAMP:20260420T094039
CREATED:20260124T061216Z
LAST-MODIFIED:20260124T061216Z
UID:2160-1770300000-1770310800@ielsanmarcos.org
SUMMARY:Horas de oficina
DESCRIPTION:Horario de oficina administrativaMartes: 9:00 AM – 5:00 PMJueves: 2:00 PM – 5:00 PM \nPara cualquier gestión\, puede comunicarse al teléfono (787) 708-5845.
URL:https://ielsanmarcos.org/evento/horas-de-oficina-58/
CATEGORIES:Horas de Oficina
END:VEVENT
BEGIN:VEVENT
DTSTART;TZID=America/Puerto_Rico:20260207T090000
DTEND;TZID=America/Puerto_Rico:20260207T110000
DTSTAMP:20260420T094039
CREATED:20260124T061957Z
LAST-MODIFIED:20260124T061957Z
UID:2171-1770454800-1770462000@ielsanmarcos.org
SUMMARY:Reunión del Consejo Congregacional de San Marcos
DESCRIPTION:
URL:https://ielsanmarcos.org/evento/reunion-del-consejo-congregacional-de-san-marcos-2/
END:VEVENT
BEGIN:VEVENT
DTSTART;TZID=Asia/Dubai:20260207T183000
DTEND;TZID=Asia/Dubai:20260207T200000
DTSTAMP:20260420T094039
CREATED:20260124T060547Z
LAST-MODIFIED:20260124T060547Z
UID:2132-1770489000-1770494400@ielsanmarcos.org
SUMMARY:Reunión Grupo AA en San Marcos
DESCRIPTION:
URL:https://ielsanmarcos.org/evento/reunion-grupo-aa-en-san-marcos-69/
END:VEVENT
BEGIN:VEVENT
DTSTART;TZID=Asia/Dubai:20260208T100000
DTEND;TZID=Asia/Dubai:20260208T233000
DTSTAMP:20260420T094039
CREATED:20260124T063140Z
LAST-MODIFIED:20260124T063140Z
UID:2170-1770544800-1770593400@ielsanmarcos.org
SUMMARY:Oficio Mayor y Eucaristía - 5º Domingo después de Epifanía
DESCRIPTION:Primera Lectura: Isaías 58:1-9a \nSalmo 112:1-9 \nSegunda Lectura: 1 Corintios 2:1-12 \nEvangelio: San Mateo 5:13-20  \nLiturgista: Ivonne Gutiérrez \nLector: Amaury Oyola \nAnfitriones/Ujieres: Albis y José García \nProyección: Zahíra C. Rodríguez \nTransmisión: Marlyn Díaz \nContadores: Asamblea (n/a) \nAltar: Amagie Garcia \n  \nASAMBLEA CONGREGACIONAL \n 
URL:https://ielsanmarcos.org/evento/oficio-mayor-y-eucaristia-5o-domingo-despues-de-epifania/
END:VEVENT
BEGIN:VEVENT
DTSTART;TZID=Asia/Dubai:20260210T090000
DTEND;TZID=Asia/Dubai:20260210T170000
DTSTAMP:20260420T094039
CREATED:20260124T061149Z
LAST-MODIFIED:20260124T061149Z
UID:2157-1770714000-1770742800@ielsanmarcos.org
SUMMARY:Horas de oficina
DESCRIPTION:Horario de oficina administrativaMartes: 9:00 AM – 5:00 PMJueves: 2:00 PM – 5:00 PM \nPara cualquier gestión\, puede comunicarse al teléfono (787) 708-5845.
URL:https://ielsanmarcos.org/evento/horas-de-oficina-55/
CATEGORIES:Horas de Oficina
END:VEVENT
BEGIN:VEVENT
DTSTART;TZID=Asia/Dubai:20260210T183000
DTEND;TZID=Asia/Dubai:20260210T200000
DTSTAMP:20260420T094039
CREATED:20260124T060659Z
LAST-MODIFIED:20260124T060659Z
UID:2135-1770748200-1770753600@ielsanmarcos.org
SUMMARY:Reunión Grupo AA en San Marcos
DESCRIPTION:
URL:https://ielsanmarcos.org/evento/reunion-grupo-aa-en-san-marcos-73/
END:VEVENT
BEGIN:VEVENT
DTSTART;TZID=America/Puerto_Rico:20260210T190000
DTEND;TZID=America/Puerto_Rico:20260210T203000
DTSTAMP:20260420T094039
CREATED:20260124T061432Z
LAST-MODIFIED:20260124T061432Z
UID:2153-1770750000-1770755400@ielsanmarcos.org
SUMMARY:La fe en diálogo con la vida (Zoom)
DESCRIPTION:Encuentro semanal de reflexión teológica por Zoom. \nMartes\, de 7:00 PM a 8:30 PM \nhttps://us02web.zoom.us/j/87065114992 \nPara comunicarse por teléfono:\n(939) 945-0244\n(787) 945-1488 \nID de reunión: 870 6511 4992
URL:https://ielsanmarcos.org/evento/la-fe-en-dialogo-con-la-vida-zoom-4/
END:VEVENT
BEGIN:VEVENT
DTSTART;TZID=Asia/Dubai:20260211T100000
DTEND;TZID=Asia/Dubai:20260211T113000
DTSTAMP:20260420T094039
CREATED:20260124T061738Z
LAST-MODIFIED:20260124T061738Z
UID:2150-1770804000-1770809400@ielsanmarcos.org
SUMMARY:Estudio Bíblico y Oración
DESCRIPTION:
URL:https://ielsanmarcos.org/evento/estudio-biblico-y-oracion-36/
END:VEVENT
BEGIN:VEVENT
DTSTART;TZID=America/Puerto_Rico:20260211T163000
DTEND;TZID=America/Puerto_Rico:20260211T183000
DTSTAMP:20260420T094039
CREATED:20260124T061651Z
LAST-MODIFIED:20260124T061651Z
UID:2146-1770827400-1770834600@ielsanmarcos.org
SUMMARY:Ensayo Ministerio Música y Adoración San Marcos
DESCRIPTION:
URL:https://ielsanmarcos.org/evento/ensayo-ministerio-musica-y-adoracion-san-marcos-5/
END:VEVENT
BEGIN:VEVENT
DTSTART;TZID=Asia/Dubai:20260212T140000
DTEND;TZID=Asia/Dubai:20260212T170000
DTSTAMP:20260420T094039
CREATED:20260124T061229Z
LAST-MODIFIED:20260124T061229Z
UID:2161-1770904800-1770915600@ielsanmarcos.org
SUMMARY:Horas de oficina
DESCRIPTION:Horario de oficina administrativaMartes: 9:00 AM – 5:00 PMJueves: 2:00 PM – 5:00 PM \nPara cualquier gestión\, puede comunicarse al teléfono (787) 708-5845.
URL:https://ielsanmarcos.org/evento/horas-de-oficina-59/
CATEGORIES:Horas de Oficina
END:VEVENT
BEGIN:VEVENT
DTSTART;TZID=Asia/Dubai:20260214T183000
DTEND;TZID=Asia/Dubai:20260214T200000
DTSTAMP:20260420T094039
CREATED:20260124T060553Z
LAST-MODIFIED:20260124T060553Z
UID:2130-1771093800-1771099200@ielsanmarcos.org
SUMMARY:Reunión Grupo AA en San Marcos
DESCRIPTION:
URL:https://ielsanmarcos.org/evento/reunion-grupo-aa-en-san-marcos-70/
END:VEVENT
BEGIN:VEVENT
DTSTART;TZID=Asia/Dubai:20260215T100000
DTEND;TZID=Asia/Dubai:20260215T233000
DTSTAMP:20260420T094039
CREATED:20260124T063430Z
LAST-MODIFIED:20260124T063430Z
UID:2169-1771149600-1771198200@ielsanmarcos.org
SUMMARY:Oficio Mayor y Eucaristía - Domingo de Transfiguración de Nuestro Señor
DESCRIPTION:Primera Lectura: Éxodo 24:12-18 \nSalmo 2 \nSegunda Lectura: 2 Pedro 1:16-21 \nEvangelio: San Mateo 17:1-9 \nLiturgista: Francis Ramos \nLector: Ángel Rivera \nAnfitriones/Ujieres: Carmen Díaz e Iván Ayala \nProyección: Belenni González \nTransmisión: Génesis Hernández \nContadoras: Marianyili y Nora \nAltar: Amagie Garcia \n  \n5:00PM – ORACION CONTEMPLATIVA TAIZÉ
URL:https://ielsanmarcos.org/evento/oficio-mayor-y-eucaristia-transfiguracion/
END:VEVENT
BEGIN:VEVENT
DTSTART;TZID=Asia/Dubai:20260217T090000
DTEND;TZID=Asia/Dubai:20260217T170000
DTSTAMP:20260420T094039
CREATED:20260124T061156Z
LAST-MODIFIED:20260124T061156Z
UID:2158-1771318800-1771347600@ielsanmarcos.org
SUMMARY:Horas de oficina
DESCRIPTION:Horario de oficina administrativaMartes: 9:00 AM – 5:00 PMJueves: 2:00 PM – 5:00 PM \nPara cualquier gestión\, puede comunicarse al teléfono (787) 708-5845.
URL:https://ielsanmarcos.org/evento/horas-de-oficina-56/
CATEGORIES:Horas de Oficina
END:VEVENT
BEGIN:VEVENT
DTSTART;TZID=Asia/Dubai:20260217T183000
DTEND;TZID=Asia/Dubai:20260217T200000
DTSTAMP:20260420T094039
CREATED:20260124T060531Z
LAST-MODIFIED:20260124T060531Z
UID:2133-1771353000-1771358400@ielsanmarcos.org
SUMMARY:Reunión Grupo AA en San Marcos
DESCRIPTION:
URL:https://ielsanmarcos.org/evento/reunion-grupo-aa-en-san-marcos-67/
END:VEVENT
BEGIN:VEVENT
DTSTART;TZID=America/Puerto_Rico:20260217T190000
DTEND;TZID=America/Puerto_Rico:20260217T203000
DTSTAMP:20260420T094039
CREATED:20260124T061448Z
LAST-MODIFIED:20260124T061448Z
UID:2154-1771354800-1771360200@ielsanmarcos.org
SUMMARY:La fe en diálogo con la vida (Zoom)
DESCRIPTION:Encuentro semanal de reflexión teológica por Zoom. \nMartes\, de 7:00 PM a 8:30 PM \nhttps://us02web.zoom.us/j/87065114992 \nPara comunicarse por teléfono:\n(939) 945-0244\n(787) 945-1488 \nID de reunión: 870 6511 4992
URL:https://ielsanmarcos.org/evento/la-fe-en-dialogo-con-la-vida-zoom-6/
END:VEVENT
BEGIN:VEVENT
DTSTART;VALUE=DATE:20260218
DTEND;VALUE=DATE:20260219
DTSTAMP:20260420T094039
CREATED:20260124T064733Z
LAST-MODIFIED:20260124T064835Z
UID:2199-1771372800-1771459199@ielsanmarcos.org
SUMMARY:Miércoles de Cenizas
DESCRIPTION:Mira los detalles del oficio de ese día aquí: \nhttps://ielsanmarcos.org/evento/oficio-mayor-y-eucaristia-miercoles-de-cenizas/ \n  \n 
URL:https://ielsanmarcos.org/evento/miercoles-de-cenizas/
END:VEVENT
BEGIN:VEVENT
DTSTART;TZID=Asia/Dubai:20260218T100000
DTEND;TZID=Asia/Dubai:20260218T113000
DTSTAMP:20260420T094039
CREATED:20260124T061744Z
LAST-MODIFIED:20260124T061744Z
UID:2149-1771408800-1771414200@ielsanmarcos.org
SUMMARY:Estudio Bíblico y Oración
DESCRIPTION:
URL:https://ielsanmarcos.org/evento/estudio-biblico-y-oracion-37/
END:VEVENT
BEGIN:VEVENT
DTSTART;TZID=America/Puerto_Rico:20260218T160000
DTEND;TZID=America/Puerto_Rico:20260218T180000
DTSTAMP:20260420T094039
CREATED:20260124T061704Z
LAST-MODIFIED:20260124T061704Z
UID:2145-1771430400-1771437600@ielsanmarcos.org
SUMMARY:Ensayo Ministerio Música y Adoración San Marcos
DESCRIPTION:
URL:https://ielsanmarcos.org/evento/ensayo-ministerio-musica-y-adoracion-san-marcos-6/
END:VEVENT
BEGIN:VEVENT
DTSTART;TZID=Asia/Dubai:20260218T180000
DTEND;TZID=Asia/Dubai:20260218T190000
DTSTAMP:20260420T094039
CREATED:20260124T064005Z
LAST-MODIFIED:20260124T064005Z
UID:2168-1771437600-1771441200@ielsanmarcos.org
SUMMARY:Oficio Mayor y Eucaristía - Miércoles de Cenizas
DESCRIPTION:Lecturas: \nJoel 2:1-2\, 12-17 \nSalmo 51:1-17 \n2 Corintios: 5:20b -6:10 \nSan Mateo 6:1-6\,16-21 \nPredica: Pr. Gabriel Ñanco \nAsistente litúrgico: Pr. Rafael Vélez \nLiturgista: Gilberto Ortiz \nLectora: Ivonne Sanabria \nUjieres: Youmara y Luli \nProyección: Belenni G. \nTransmisión: Marlyn Díaz
URL:https://ielsanmarcos.org/evento/oficio-mayor-y-eucaristia-miercoles-de-cenizas/
END:VEVENT
BEGIN:VEVENT
DTSTART;TZID=Asia/Dubai:20260219T140000
DTEND;TZID=Asia/Dubai:20260219T170000
DTSTAMP:20260420T094039
CREATED:20260124T061241Z
LAST-MODIFIED:20260124T061241Z
UID:2162-1771509600-1771520400@ielsanmarcos.org
SUMMARY:Horas de oficina
DESCRIPTION:Horario de oficina administrativaMartes: 9:00 AM – 5:00 PMJueves: 2:00 PM – 5:00 PM \nPara cualquier gestión\, puede comunicarse al teléfono (787) 708-5845.
URL:https://ielsanmarcos.org/evento/horas-de-oficina-60/
CATEGORIES:Horas de Oficina
END:VEVENT
END:VCALENDAR