BEGIN:VCALENDAR
VERSION:2.0
PRODID:-//Iglesia Evangélica Luterana San Marcos - ECPv6.15.16//NONSGML v1.0//EN
CALSCALE:GREGORIAN
METHOD:PUBLISH
X-ORIGINAL-URL:https://ielsanmarcos.org
X-WR-CALDESC:Eventos para Iglesia Evangélica Luterana San Marcos
REFRESH-INTERVAL;VALUE=DURATION:PT1H
X-Robots-Tag:noindex
X-PUBLISHED-TTL:PT1H
BEGIN:VTIMEZONE
TZID:Asia/Dubai
BEGIN:STANDARD
TZOFFSETFROM:+0400
TZOFFSETTO:+0400
TZNAME:+04
DTSTART:20250101T000000
END:STANDARD
END:VTIMEZONE
BEGIN:VTIMEZONE
TZID:America/Puerto_Rico
BEGIN:STANDARD
TZOFFSETFROM:-0400
TZOFFSETTO:-0400
TZNAME:AST
DTSTART:20250101T000000
END:STANDARD
END:VTIMEZONE
BEGIN:VEVENT
DTSTART;TZID=Asia/Dubai:20260317T090000
DTEND;TZID=Asia/Dubai:20260317T170000
DTSTAMP:20260420T081633
CREATED:20260223T060106Z
LAST-MODIFIED:20260223T060106Z
UID:2370-1773738000-1773766800@ielsanmarcos.org
SUMMARY:Horas de oficina
DESCRIPTION:Horario de oficina administrativaMartes: 9:00 AM – 5:00 PMJueves: 2:00 PM – 5:00 PM \nPara cualquier gestión\, puede comunicarse al teléfono (787) 708-5845.
URL:https://ielsanmarcos.org/evento/horas-de-oficina-68/
CATEGORIES:Horas de Oficina
END:VEVENT
BEGIN:VEVENT
DTSTART;TZID=Asia/Dubai:20260317T183000
DTEND;TZID=Asia/Dubai:20260317T200000
DTSTAMP:20260420T081633
CREATED:20260223T055752Z
LAST-MODIFIED:20260223T055752Z
UID:2360-1773772200-1773777600@ielsanmarcos.org
SUMMARY:Reunión Grupo AA en San Marcos
DESCRIPTION:
URL:https://ielsanmarcos.org/evento/reunion-grupo-aa-en-san-marcos-76/
END:VEVENT
BEGIN:VEVENT
DTSTART;TZID=America/Puerto_Rico:20260317T190000
DTEND;TZID=America/Puerto_Rico:20260317T203000
DTSTAMP:20260420T081633
CREATED:20260223T060520Z
LAST-MODIFIED:20260223T060520Z
UID:2381-1773774000-1773779400@ielsanmarcos.org
SUMMARY:La fe en diálogo con la vida (Zoom)
DESCRIPTION:Encuentro semanal de reflexión teológica por Zoom. \nMartes\, de 7:00 PM a 8:30 PM \nhttps://us02web.zoom.us/j/87065114992 \nPara comunicarse por teléfono:\n(939) 945-0244\n(787) 945-1488 \nID de reunión: 870 6511 4992
URL:https://ielsanmarcos.org/evento/la-fe-en-dialogo-con-la-vida-zoom-10/
END:VEVENT
BEGIN:VEVENT
DTSTART;TZID=Asia/Dubai:20260318T100000
DTEND;TZID=Asia/Dubai:20260318T113000
DTSTAMP:20260420T081633
CREATED:20260223T060449Z
LAST-MODIFIED:20260223T060449Z
UID:2408-1773828000-1773833400@ielsanmarcos.org
SUMMARY:Estudio Bíblico y Oración
DESCRIPTION:
URL:https://ielsanmarcos.org/evento/estudio-biblico-y-oracion-41/
END:VEVENT
BEGIN:VEVENT
DTSTART;TZID=America/Puerto_Rico:20260318T163000
DTEND;TZID=America/Puerto_Rico:20260318T183000
DTSTAMP:20260420T081633
CREATED:20260223T060155Z
LAST-MODIFIED:20260223T060155Z
UID:2363-1773851400-1773858600@ielsanmarcos.org
SUMMARY:Ensayo Ministerio Música y Adoración San Marcos
DESCRIPTION:
URL:https://ielsanmarcos.org/evento/ensayo-ministerio-musica-y-adoracion-san-marcos-10/
END:VEVENT
BEGIN:VEVENT
DTSTART;TZID=Asia/Dubai:20260319T140000
DTEND;TZID=Asia/Dubai:20260319T170000
DTSTAMP:20260420T081633
CREATED:20260223T060022Z
LAST-MODIFIED:20260223T060022Z
UID:2372-1773928800-1773939600@ielsanmarcos.org
SUMMARY:Horas de oficina
DESCRIPTION:Horario de oficina administrativaMartes: 9:00 AM – 5:00 PMJueves: 2:00 PM – 5:00 PM \nPara cualquier gestión\, puede comunicarse al teléfono (787) 708-5845.
URL:https://ielsanmarcos.org/evento/horas-de-oficina-64/
CATEGORIES:Horas de Oficina
END:VEVENT
BEGIN:VEVENT
DTSTART;TZID=Asia/Dubai:20260321T183000
DTEND;TZID=Asia/Dubai:20260321T200000
DTSTAMP:20260420T081633
CREATED:20260223T055825Z
LAST-MODIFIED:20260223T055825Z
UID:2355-1774117800-1774123200@ielsanmarcos.org
SUMMARY:Reunión Grupo AA en San Marcos
DESCRIPTION:
URL:https://ielsanmarcos.org/evento/reunion-grupo-aa-en-san-marcos-81/
END:VEVENT
BEGIN:VEVENT
DTSTART;TZID=Asia/Dubai:20260322T100000
DTEND;TZID=Asia/Dubai:20260322T233000
DTSTAMP:20260420T081633
CREATED:20260223T055132Z
LAST-MODIFIED:20260223T055132Z
UID:2344-1774173600-1774222200@ielsanmarcos.org
SUMMARY:Oficio Mayor y Eucaristía - Quinto Domingo en Cuaresma
DESCRIPTION:Primera Lectura: Ezequiel 37:1-14 \nSalmo 130 \nSegunda Lectura: Romanos 8:6-11 \nEvangelio: San Juan 11:1-45 \nLiturgista: Francis Ramos \nLectora: Imagda Cruz \nAnfitriones/Ujieres: Wilma y Eric Mercado \nProyección: Amaury Oyola \nTransmisión: Marlyn Díaz \nContadoras: Marlyn y Nora \nAltar: Ivonne Gutiérrez
URL:https://ielsanmarcos.org/evento/oficio-mayor-y-eucaristia-quinto-domingo-en-cuaresma/
END:VEVENT
BEGIN:VEVENT
DTSTART;TZID=Asia/Dubai:20260324T090000
DTEND;TZID=Asia/Dubai:20260324T170000
DTSTAMP:20260420T081633
CREATED:20260223T060117Z
LAST-MODIFIED:20260223T060117Z
UID:2368-1774342800-1774371600@ielsanmarcos.org
SUMMARY:Horas de oficina
DESCRIPTION:Horario de oficina administrativaMartes: 9:00 AM – 5:00 PMJueves: 2:00 PM – 5:00 PM \nPara cualquier gestión\, puede comunicarse al teléfono (787) 708-5845.
URL:https://ielsanmarcos.org/evento/horas-de-oficina-69/
CATEGORIES:Horas de Oficina
END:VEVENT
BEGIN:VEVENT
DTSTART;TZID=Asia/Dubai:20260324T183000
DTEND;TZID=Asia/Dubai:20260324T200000
DTSTAMP:20260420T081633
CREATED:20260223T055759Z
LAST-MODIFIED:20260223T055759Z
UID:2359-1774377000-1774382400@ielsanmarcos.org
SUMMARY:Reunión Grupo AA en San Marcos
DESCRIPTION:
URL:https://ielsanmarcos.org/evento/reunion-grupo-aa-en-san-marcos-77/
END:VEVENT
BEGIN:VEVENT
DTSTART;TZID=America/Puerto_Rico:20260324T190000
DTEND;TZID=America/Puerto_Rico:20260324T203000
DTSTAMP:20260420T081633
CREATED:20260223T060526Z
LAST-MODIFIED:20260223T060526Z
UID:2380-1774378800-1774384200@ielsanmarcos.org
SUMMARY:La fe en diálogo con la vida (Zoom)
DESCRIPTION:Encuentro semanal de reflexión teológica por Zoom. \nMartes\, de 7:00 PM a 8:30 PM \nhttps://us02web.zoom.us/j/87065114992 \nPara comunicarse por teléfono:\n(939) 945-0244\n(787) 945-1488 \nID de reunión: 870 6511 4992
URL:https://ielsanmarcos.org/evento/la-fe-en-dialogo-con-la-vida-zoom-11/
END:VEVENT
BEGIN:VEVENT
DTSTART;TZID=Asia/Dubai:20260325T100000
DTEND;TZID=Asia/Dubai:20260325T113000
DTSTAMP:20260420T081633
CREATED:20260223T060456Z
LAST-MODIFIED:20260223T060456Z
UID:2407-1774432800-1774438200@ielsanmarcos.org
SUMMARY:Estudio Bíblico y Oración
DESCRIPTION:
URL:https://ielsanmarcos.org/evento/estudio-biblico-y-oracion-42/
END:VEVENT
BEGIN:VEVENT
DTSTART;TZID=America/Puerto_Rico:20260325T163000
DTEND;TZID=America/Puerto_Rico:20260325T183000
DTSTAMP:20260420T081633
CREATED:20260223T060200Z
LAST-MODIFIED:20260223T060200Z
UID:2364-1774456200-1774463400@ielsanmarcos.org
SUMMARY:Ensayo Ministerio Música y Adoración San Marcos
DESCRIPTION:
URL:https://ielsanmarcos.org/evento/ensayo-ministerio-musica-y-adoracion-san-marcos-11/
END:VEVENT
BEGIN:VEVENT
DTSTART;TZID=Asia/Dubai:20260326T140000
DTEND;TZID=Asia/Dubai:20260326T170000
DTSTAMP:20260420T081633
CREATED:20260223T060029Z
LAST-MODIFIED:20260223T060029Z
UID:2373-1774533600-1774544400@ielsanmarcos.org
SUMMARY:Horas de oficina
DESCRIPTION:Horario de oficina administrativaMartes: 9:00 AM – 5:00 PMJueves: 2:00 PM – 5:00 PM \nPara cualquier gestión\, puede comunicarse al teléfono (787) 708-5845.
URL:https://ielsanmarcos.org/evento/horas-de-oficina-65/
CATEGORIES:Horas de Oficina
END:VEVENT
BEGIN:VEVENT
DTSTART;TZID=America/Puerto_Rico:20260328T090000
DTEND;TZID=America/Puerto_Rico:20260328T110000
DTSTAMP:20260420T081633
CREATED:20260223T060833Z
LAST-MODIFIED:20260223T060833Z
UID:2424-1774688400-1774695600@ielsanmarcos.org
SUMMARY:Taller de Pintura
DESCRIPTION:
URL:https://ielsanmarcos.org/evento/taller-de-pintura-2/
END:VEVENT
BEGIN:VEVENT
DTSTART;TZID=Asia/Dubai:20260328T183000
DTEND;TZID=Asia/Dubai:20260328T200000
DTSTAMP:20260420T081633
CREATED:20260223T055831Z
LAST-MODIFIED:20260223T055831Z
UID:2354-1774722600-1774728000@ielsanmarcos.org
SUMMARY:Reunión Grupo AA en San Marcos
DESCRIPTION:
URL:https://ielsanmarcos.org/evento/reunion-grupo-aa-en-san-marcos-82/
END:VEVENT
BEGIN:VEVENT
DTSTART;TZID=Asia/Dubai:20260329T100000
DTEND;TZID=Asia/Dubai:20260329T233000
DTSTAMP:20260420T081633
CREATED:20260223T055301Z
LAST-MODIFIED:20260223T055301Z
UID:2352-1774778400-1774827000@ielsanmarcos.org
SUMMARY:Oficio Mayor y Eucaristía - Domingo de Ramos
DESCRIPTION:Primera Lectura: Isaías 50:4-9a \nSalmo 31:9-16 \nSegunda Lectura: Filipenses 2:5-11 \nEvangelio: San Mateo 27:11-54 \nLiturgista: Belenni González \nLectora: Marlyn Díaz \nAnfitriones/Ujieres: Youmara González y Aracelis Cosme \nProyección: Idalia Negrón \nTransmisión: Génesis Hernández \nContadoras: Mildred P. y Mayra \nAltar: Ivonne Gutiérrez \nBrazos Extendidos: Ivonne Gutiérrez y Nora Pacheco
URL:https://ielsanmarcos.org/evento/oficio-mayor-y-eucaristia-domingo-de-ramos/
END:VEVENT
BEGIN:VEVENT
DTSTART;TZID=Asia/Dubai:20260331T090000
DTEND;TZID=Asia/Dubai:20260331T170000
DTSTAMP:20260420T081633
CREATED:20260223T060127Z
LAST-MODIFIED:20260223T060127Z
UID:2367-1774947600-1774976400@ielsanmarcos.org
SUMMARY:Horas de oficina
DESCRIPTION:Horario de oficina administrativaMartes: 9:00 AM – 5:00 PMJueves: 2:00 PM – 5:00 PM \nPara cualquier gestión\, puede comunicarse al teléfono (787) 708-5845.
URL:https://ielsanmarcos.org/evento/horas-de-oficina-70/
CATEGORIES:Horas de Oficina
END:VEVENT
BEGIN:VEVENT
DTSTART;TZID=Asia/Dubai:20260331T183000
DTEND;TZID=Asia/Dubai:20260331T200000
DTSTAMP:20260420T081633
CREATED:20260223T055806Z
LAST-MODIFIED:20260223T055806Z
UID:2358-1774981800-1774987200@ielsanmarcos.org
SUMMARY:Reunión Grupo AA en San Marcos
DESCRIPTION:
URL:https://ielsanmarcos.org/evento/reunion-grupo-aa-en-san-marcos-78/
END:VEVENT
BEGIN:VEVENT
DTSTART;TZID=America/Puerto_Rico:20260331T190000
DTEND;TZID=America/Puerto_Rico:20260331T203000
DTSTAMP:20260420T081633
CREATED:20260223T060616Z
LAST-MODIFIED:20260223T060616Z
UID:2420-1774983600-1774989000@ielsanmarcos.org
SUMMARY:La fe en diálogo con la vida (Zoom)
DESCRIPTION:Encuentro semanal de reflexión teológica por Zoom. \nMartes\, de 7:00 PM a 8:30 PM \nhttps://us02web.zoom.us/j/87065114992 \nPara comunicarse por teléfono:\n(939) 945-0244\n(787) 945-1488 \nID de reunión: 870 6511 4992
URL:https://ielsanmarcos.org/evento/la-fe-en-dialogo-con-la-vida-zoom-12/
END:VEVENT
BEGIN:VEVENT
DTSTART;TZID=America/Puerto_Rico:20260402T180000
DTEND;TZID=America/Puerto_Rico:20260402T190000
DTSTAMP:20260420T081633
CREATED:20260402T153050Z
LAST-MODIFIED:20260402T153106Z
UID:2563-1775152800-1775156400@ielsanmarcos.org
SUMMARY:Jueves Santo * Taizé
DESCRIPTION:Predica: Pastor Ñanco \nLiturgista: Mildred Pérez \nUjieres: Mildred Cuevas y Jonathan Ramos \nProyección: Zahíra Rodriguez \nTransmision: Génesis Hernández
URL:https://ielsanmarcos.org/evento/jueves-santo-taize/
END:VEVENT
BEGIN:VEVENT
DTSTART;TZID=America/Puerto_Rico:20260403T100000
DTEND;TZID=America/Puerto_Rico:20260403T113000
DTSTAMP:20260420T081633
CREATED:20260402T153147Z
LAST-MODIFIED:20260402T153147Z
UID:2566-1775210400-1775215800@ielsanmarcos.org
SUMMARY:Viernes Santo
DESCRIPTION:Predica: Pastor Ñanco \nLiturgista: Francis \nLector: Ángel \nUjieres: Carmen e Iván \nProyección: Marianyili \nTransmisión: Marlyn
URL:https://ielsanmarcos.org/evento/viernes-santo/
END:VEVENT
BEGIN:VEVENT
DTSTART;TZID=Asia/Dubai:20260404T183000
DTEND;TZID=Asia/Dubai:20260404T200000
DTSTAMP:20260420T081633
CREATED:20260402T152808Z
LAST-MODIFIED:20260402T152808Z
UID:2529-1775327400-1775332800@ielsanmarcos.org
SUMMARY:Reunión Grupo AA en San Marcos
DESCRIPTION:
URL:https://ielsanmarcos.org/evento/reunion-grupo-aa-en-san-marcos-88/
END:VEVENT
BEGIN:VEVENT
DTSTART;TZID=Asia/Dubai:20260405T100000
DTEND;TZID=Asia/Dubai:20260405T233000
DTSTAMP:20260420T081633
CREATED:20260402T151331Z
LAST-MODIFIED:20260402T151331Z
UID:2501-1775383200-1775431800@ielsanmarcos.org
SUMMARY:Oficio Mayor y Eucaristía - Domingo de Pascua
DESCRIPTION:Primera Lectura: Hechos 10:34-43 \nSalmo 118:1-2\, 14-24 \nSegunda Lectura: Colosenses 3:1-4 \nEvangelio: San Mateo 28:1-10 \nLiturgista: Ivonne Gutiérrez \nLectora: Marlyn Díaz \nAnfitriones/Ujieres: Zahíra y Xavier Ramírez \nProyección: Amaury Oyola \nTransmisión: Jeannette Sierra \nAltar: Ivonne Gutierrez \n 
URL:https://ielsanmarcos.org/evento/oficio-mayor-y-eucaristia-domingo-de-pascua/
END:VEVENT
BEGIN:VEVENT
DTSTART;TZID=Asia/Dubai:20260407T090000
DTEND;TZID=Asia/Dubai:20260407T170000
DTSTAMP:20260420T081633
CREATED:20260402T152318Z
LAST-MODIFIED:20260402T152318Z
UID:2516-1775552400-1775581200@ielsanmarcos.org
SUMMARY:Horas de oficina
DESCRIPTION:Horario de oficina administrativaMartes: 9:00 AM – 5:00 PMJueves: 2:00 PM – 5:00 PM \nPara cualquier gestión\, puede comunicarse al teléfono (787) 708-5845.
URL:https://ielsanmarcos.org/evento/horas-de-oficina-71/
CATEGORIES:Horas de Oficina
END:VEVENT
BEGIN:VEVENT
DTSTART;TZID=Asia/Dubai:20260407T183000
DTEND;TZID=Asia/Dubai:20260407T200000
DTSTAMP:20260420T081633
CREATED:20260402T152734Z
LAST-MODIFIED:20260402T152734Z
UID:2532-1775586600-1775592000@ielsanmarcos.org
SUMMARY:Reunión Grupo AA en San Marcos
DESCRIPTION:
URL:https://ielsanmarcos.org/evento/reunion-grupo-aa-en-san-marcos-84/
END:VEVENT
BEGIN:VEVENT
DTSTART;TZID=Asia/Dubai:20260408T100000
DTEND;TZID=Asia/Dubai:20260408T113000
DTSTAMP:20260420T081633
CREATED:20260402T152655Z
LAST-MODIFIED:20260402T152655Z
UID:2525-1775642400-1775647800@ielsanmarcos.org
SUMMARY:Estudio Bíblico y Oración
DESCRIPTION:
URL:https://ielsanmarcos.org/evento/estudio-biblico-y-oracion-44/
END:VEVENT
BEGIN:VEVENT
DTSTART;TZID=America/Puerto_Rico:20260408T163000
DTEND;TZID=America/Puerto_Rico:20260408T183000
DTSTAMP:20260420T081633
CREATED:20260402T152620Z
LAST-MODIFIED:20260402T152620Z
UID:2521-1775665800-1775673000@ielsanmarcos.org
SUMMARY:Ensayo Ministerio Música y Adoración San Marcos
DESCRIPTION:
URL:https://ielsanmarcos.org/evento/ensayo-ministerio-musica-y-adoracion-san-marcos-12/
END:VEVENT
BEGIN:VEVENT
DTSTART;TZID=Asia/Dubai:20260409T140000
DTEND;TZID=Asia/Dubai:20260409T170000
DTSTAMP:20260420T081633
CREATED:20260402T152403Z
LAST-MODIFIED:20260402T152403Z
UID:2511-1775743200-1775754000@ielsanmarcos.org
SUMMARY:Horas de oficina
DESCRIPTION:Horario de oficina administrativaMartes: 9:00 AM – 5:00 PMJueves: 2:00 PM – 5:00 PM \nPara cualquier gestión\, puede comunicarse al teléfono (787) 708-5845.
URL:https://ielsanmarcos.org/evento/horas-de-oficina-75/
CATEGORIES:Horas de Oficina
END:VEVENT
BEGIN:VEVENT
DTSTART;TZID=America/Puerto_Rico:20260411T090000
DTEND;TZID=America/Puerto_Rico:20260411T110000
DTSTAMP:20260420T081633
CREATED:20260402T152542Z
LAST-MODIFIED:20260402T152542Z
UID:2518-1775898000-1775905200@ielsanmarcos.org
SUMMARY:Taller de Pintura
DESCRIPTION:
URL:https://ielsanmarcos.org/evento/taller-de-pintura-3/
END:VEVENT
END:VCALENDAR